BEGIN:VCALENDAR
VERSION:2.0
PRODID:-//Agenda do Vinho - ECPv4.9.0//NONSGML v1.0//EN
CALSCALE:GREGORIAN
METHOD:PUBLISH
X-WR-CALNAME:Agenda do Vinho
X-ORIGINAL-URL:https://agendadovinho.com.br
X-WR-CALDESC:Eventos para Agenda do Vinho
BEGIN:VEVENT
DTSTART;TZID=America/Sao_Paulo:20240720T190000
DTEND;TZID=America/Sao_Paulo:20240720T213000
DTSTAMP:20260420T061532
CREATED:20240613T153129Z
LAST-MODIFIED:20240613T153129Z
UID:20259-1721502000-1721511000@agendadovinho.com.br
SUMMARY:Degustação: Tertúlia Histórica - As mulheres no mundo do vinho
DESCRIPTION:
URL:https://agendadovinho.com.br/event/degustacao-tertulia-historica-as-mulheres-no-mundo-do-vinho/
LOCATION:Sacra Rolha Wine Bar\, R. Rio Grande\, 304 - Vila Mariana\, São Paulo\, SP\, 04018-000\, Brasil
CATEGORIES:Degustação,SP - São Paulo
ATTACH;FMTTYPE=image/jpeg:https://agendadovinho.com.br/wp-content/uploads/2024/06/degustacao_200724.jpg
END:VEVENT
END:VCALENDAR