BEGIN:VCALENDAR
VERSION:2.0
PRODID:-//Agenda do Vinho - ECPv4.9.0//NONSGML v1.0//EN
CALSCALE:GREGORIAN
METHOD:PUBLISH
X-WR-CALNAME:Agenda do Vinho
X-ORIGINAL-URL:https://agendadovinho.com.br
X-WR-CALDESC:Eventos para Agenda do Vinho
BEGIN:VEVENT
DTSTART;TZID=America/Sao_Paulo:20240622T150000
DTEND;TZID=America/Sao_Paulo:20240622T193000
DTSTAMP:20260420T075137
CREATED:20240209T095609Z
LAST-MODIFIED:20240209T095609Z
UID:19190-1719068400-1719084600@agendadovinho.com.br
SUMMARY:6ª Mostra VInho no Trem de Campinas
DESCRIPTION:
URL:https://agendadovinho.com.br/event/6a-mostra-vinho-no-trem-de-campinas/
LOCATION:Maria Fumaça Campinas\, R. Dr. Antônio Duarte da Conceição\, 1501\, Campinas\, SP\, 13090-606\, Brasil
CATEGORIES:Degustação,SP - Demais cidades
ATTACH;FMTTYPE=image/jpeg:https://agendadovinho.com.br/wp-content/uploads/2024/02/vinho-no-trem_220624.jpg
END:VEVENT
END:VCALENDAR