BEGIN:VCALENDAR
VERSION:2.0
PRODID:-//Agenda do Vinho - ECPv4.9.0//NONSGML v1.0//EN
CALSCALE:GREGORIAN
METHOD:PUBLISH
X-WR-CALNAME:Agenda do Vinho
X-ORIGINAL-URL:https://agendadovinho.com.br
X-WR-CALDESC:Eventos para Agenda do Vinho
BEGIN:VEVENT
DTSTART;TZID=America/Sao_Paulo:20240620T183000
DTEND;TZID=America/Sao_Paulo:20240620T223000
DTSTAMP:20260420T075003
CREATED:20240417T135840Z
LAST-MODIFIED:20240417T135840Z
UID:19934-1718908200-1718922600@agendadovinho.com.br
SUMMARY:Primeiro Festival de Vinhos - Vicino Cucina
DESCRIPTION:
URL:https://agendadovinho.com.br/event/primeiro-festival-de-vinhos-vicino-cucina/
LOCATION:Vicino – Cucina & Vino\, R. Caetano D'andréa\, 250 - Jardim Maria Helena\, Guarulhos\, SP\, 07115-230\, Brasil
CATEGORIES:Degustação,SP - Demais cidades
ATTACH;FMTTYPE=image/png:https://agendadovinho.com.br/wp-content/uploads/2024/04/1-festival-de-vinhos_200624.png
END:VEVENT
BEGIN:VEVENT
DTSTART;TZID=America/Sao_Paulo:20240620T190000
DTEND;TZID=America/Sao_Paulo:20240620T220000
DTSTAMP:20260420T075003
CREATED:20240604T152331Z
LAST-MODIFIED:20240604T152331Z
UID:20213-1718910000-1718920800@agendadovinho.com.br
SUMMARY:DECANTER Wine Day | Campinas 2024
DESCRIPTION:
URL:https://agendadovinho.com.br/event/decanter-wine-day-campinas-2024/
LOCATION:Sky Galleria\, Av. Bailarina Selma Parada\, 505 - Jardim Madalena\, Campinas\, SP\, 13092-599\, Brasil
CATEGORIES:Degustação,SP - Demais cidades
ATTACH;FMTTYPE=image/jpeg:https://agendadovinho.com.br/wp-content/uploads/2024/06/decanter-wine-day_200624.jpg
END:VEVENT
END:VCALENDAR