BEGIN:VCALENDAR
VERSION:2.0
PRODID:-//Agenda do Vinho - ECPv4.9.0//NONSGML v1.0//EN
CALSCALE:GREGORIAN
METHOD:PUBLISH
X-WR-CALNAME:Agenda do Vinho
X-ORIGINAL-URL:https://agendadovinho.com.br
X-WR-CALDESC:Eventos para Agenda do Vinho
BEGIN:VEVENT
DTSTART;TZID=America/Sao_Paulo:20240608T120000
DTEND;TZID=America/Sao_Paulo:20240608T210000
DTSTAMP:20260420T075006
CREATED:20240506T150306Z
LAST-MODIFIED:20240506T150306Z
UID:20030-1717848000-1717880400@agendadovinho.com.br
SUMMARY:Encontro de Vinhos São Paulo - Junho
DESCRIPTION:
URL:https://agendadovinho.com.br/event/encontro-de-vinhos-sao-paulo-junho/
LOCATION:Espaço do Bosque\, Rua Werner Von Siemens\, 111 - Lapa de Baixo\, São Paulo\, SP\, 05069-010\, Brasil
CATEGORIES:Degustação,SP - São Paulo
ATTACH;FMTTYPE=image/jpeg:https://agendadovinho.com.br/wp-content/uploads/2024/05/encontro-de-vinhos_080624.jpg
END:VEVENT
BEGIN:VEVENT
DTSTART;TZID=America/Sao_Paulo:20240608T190000
DTEND;TZID=America/Sao_Paulo:20240608T220000
DTSTAMP:20260420T075006
CREATED:20240603T184547Z
LAST-MODIFIED:20240603T184604Z
UID:20194-1717873200-1717884000@agendadovinho.com.br
SUMMARY:Degustação guiada de vinhos com harmonização
DESCRIPTION:
URL:https://agendadovinho.com.br/event/degustacao-guiada-de-vinhos-com-harmonizacao/
LOCATION:Empório Uai Delicias Mineiras\, R. Dr. Hamilton Prado\, 296 - Centro\, Franco da Rocha\, SP\, 07801-000\, Brasil
CATEGORIES:Degustação,SP - Demais cidades
ATTACH;FMTTYPE=image/jpeg:https://agendadovinho.com.br/wp-content/uploads/2024/06/degustacao-guiada_080624.jpg
END:VEVENT
END:VCALENDAR