BEGIN:VCALENDAR
VERSION:2.0
PRODID:-//Agenda do Vinho - ECPv4.9.0//NONSGML v1.0//EN
CALSCALE:GREGORIAN
METHOD:PUBLISH
X-WR-CALNAME:Agenda do Vinho
X-ORIGINAL-URL:https://agendadovinho.com.br
X-WR-CALDESC:Eventos para Agenda do Vinho
BEGIN:VEVENT
DTSTART;TZID=America/Sao_Paulo:20240607T160000
DTEND;TZID=America/Sao_Paulo:20240607T210000
DTSTAMP:20260420T075025
CREATED:20240520T162406Z
LAST-MODIFIED:20240520T162406Z
UID:20134-1717776000-1717794000@agendadovinho.com.br
SUMMARY:Festival de Vinhos Especial Namorados - Ilha Plaza
DESCRIPTION:
URL:https://agendadovinho.com.br/event/festival-de-vinhos-especial-namorados-ilha-plaza/
LOCATION:Ilha Plaza Shopping\, Av. Maestro Paulo e Silva\, 400 - Jardim Carioca\, Rio de Janeiro\, RJ\, 21920-445\, Brasil
CATEGORIES:Degustação,RJ - Rio de Janeiro
ATTACH;FMTTYPE=image/jpeg:https://agendadovinho.com.br/wp-content/uploads/2024/05/festival-de-vinhos_070624.jpg
END:VEVENT
BEGIN:VEVENT
DTSTART;TZID=America/Sao_Paulo:20240607T180000
DTEND;TZID=America/Sao_Paulo:20240607T220000
DTSTAMP:20260420T075025
CREATED:20240527T155519Z
LAST-MODIFIED:20240527T155519Z
UID:20159-1717783200-1717797600@agendadovinho.com.br
SUMMARY:Wine Weekend  Dia dos Namorados
DESCRIPTION:
URL:https://agendadovinho.com.br/event/wine-weekend-dia-dos-namorados/
LOCATION:Shopping Villa Romana\, Av. Me. Benvenuta\, 687 - Santa Monica\, Florianópolis\, SC\, 88035-000
CATEGORIES:Degustação,SC - Florianópolis
ATTACH;FMTTYPE=image/png:https://agendadovinho.com.br/wp-content/uploads/2024/05/wine-weekend_070624.png
END:VEVENT
END:VCALENDAR