BEGIN:VCALENDAR
VERSION:2.0
PRODID:-//Agenda do Vinho - ECPv4.9.0//NONSGML v1.0//EN
CALSCALE:GREGORIAN
METHOD:PUBLISH
X-WR-CALNAME:Agenda do Vinho
X-ORIGINAL-URL:https://agendadovinho.com.br
X-WR-CALDESC:Eventos para Agenda do Vinho
BEGIN:VEVENT
DTSTART;TZID=America/Sao_Paulo:20240525T130000
DTEND;TZID=America/Sao_Paulo:20240525T190000
DTSTAMP:20260420T093052
CREATED:20240320T192224Z
LAST-MODIFIED:20240320T192224Z
UID:19633-1716642000-1716663600@agendadovinho.com.br
SUMMARY:VINHOS NA SERRA - 1º ENCONTRO DE VINHOS BRASILEIROS - TERESÓPOLIS - RJ - VINHOS DE ALTOS MONTES
DESCRIPTION:
URL:https://agendadovinho.com.br/event/vinhos-na-serra-1o-encontro-de-vinhos-brasileiros-teresopolis-rj-vinhos-de-altos-montes/
LOCATION:Espaço Ville Verte\, Estr. Parque do Imbuí\, 2815 - Posse\, Teresópolis\, RJ\, 25970-461\, Brasil
CATEGORIES:Degustação,RJ - Demais cidades
ATTACH;FMTTYPE=image/jpeg:https://agendadovinho.com.br/wp-content/uploads/2024/03/vinhos-na-serra_250524.jpg
END:VEVENT
BEGIN:VEVENT
DTSTART;TZID=America/Sao_Paulo:20240525T140000
DTEND;TZID=America/Sao_Paulo:20240525T210000
DTSTAMP:20260420T093052
CREATED:20240514T172526Z
LAST-MODIFIED:20240514T172526Z
UID:20102-1716645600-1716670800@agendadovinho.com.br
SUMMARY:Vinho na Vila 2024 - Brasília
DESCRIPTION:
URL:https://agendadovinho.com.br/event/vinho-na-vila-2024-brasilia/
LOCATION:Casa Park Shopping\, SGCV Sul\, Sgcv Lt 12/22 Ae - Guará\, Brasília\, DF\, 71215-100\, Brasil
CATEGORIES:Degustação,DF - Brasília
ATTACH;FMTTYPE=image/jpeg:https://agendadovinho.com.br/wp-content/uploads/2024/05/vinho-na-vila_250524.jpg
END:VEVENT
BEGIN:VEVENT
DTSTART;TZID=America/Sao_Paulo:20240525T153000
DTEND;TZID=America/Sao_Paulo:20240525T161500
DTSTAMP:20260420T093052
CREATED:20240506T144805Z
LAST-MODIFIED:20240506T144805Z
UID:20015-1716651000-1716653700@agendadovinho.com.br
SUMMARY:Oficina nº. 2 - Vinhedos e vias lácteas: a combinação de queijos com vinhos e espumantes gaúchos
DESCRIPTION:
URL:https://agendadovinho.com.br/event/oficina-no-2-vinhedos-e-vias-lacteas-a-combinacao-de-queijos-com-vinhos-e-espumantes-gauchos/
LOCATION:Casa de Cultura Mario Quintana (CCMQ)\, R. dos Andradas\, 736 - Centro Histórico\, Porto Alegre\, RS\, 90020-004\, Brasil
CATEGORIES:Degustação,RS - Porto Alegre
ATTACH;FMTTYPE=image/jpeg:https://agendadovinho.com.br/wp-content/uploads/2024/05/vinhedos-e-vias-lacteas_250524-scaled.jpg
END:VEVENT
END:VCALENDAR