BEGIN:VCALENDAR
VERSION:2.0
PRODID:-//Agenda do Vinho - ECPv4.9.0//NONSGML v1.0//EN
CALSCALE:GREGORIAN
METHOD:PUBLISH
X-WR-CALNAME:Agenda do Vinho
X-ORIGINAL-URL:https://agendadovinho.com.br
X-WR-CALDESC:Eventos para Agenda do Vinho
BEGIN:VEVENT
DTSTART;TZID=America/Sao_Paulo:20240518T120000
DTEND;TZID=America/Sao_Paulo:20240518T180000
DTSTAMP:20260420T093051
CREATED:20240412T143625Z
LAST-MODIFIED:20240412T143625Z
UID:19879-1716033600-1716055200@agendadovinho.com.br
SUMMARY:Vinhos na Serra edição 2024
DESCRIPTION:
URL:https://agendadovinho.com.br/event/vinhos-na-serra-edicao-2024-2/
LOCATION:Tênis Clube Campos do Jordão\, Av. Paulo Ribas\, 76 - Capivari\, Campos do Jordão\, SP\, 12460-000\, Brasil
CATEGORIES:Degustação,SP - Demais cidades
ATTACH;FMTTYPE=image/png:https://agendadovinho.com.br/wp-content/uploads/2024/04/vinhos-na-serra_170524.png
END:VEVENT
BEGIN:VEVENT
DTSTART;TZID=America/Sao_Paulo:20240518T130000
DTEND;TZID=America/Sao_Paulo:20240518T190000
DTSTAMP:20260420T093051
CREATED:20240209T094644Z
LAST-MODIFIED:20240209T094644Z
UID:19188-1716037200-1716058800@agendadovinho.com.br
SUMMARY:6º Edição Vinho no Galpão - Degustação de Vinhos!
DESCRIPTION:
URL:https://agendadovinho.com.br/event/6o-edicao-vinho-no-galpao-degustacao-de-vinhos/
LOCATION:La Vinheria\, Rua Costa Aguiar\, n. 1376 - Conj. 12 - Ipiranga\, São Paulo\, SP\, 04204-001\, Brasil
CATEGORIES:Degustação,SP - São Paulo
ATTACH;FMTTYPE=image/png:https://agendadovinho.com.br/wp-content/uploads/2024/02/vinho-no-galpão_180524.png
END:VEVENT
BEGIN:VEVENT
DTSTART;TZID=America/Sao_Paulo:20240518T130000
DTEND;TZID=America/Sao_Paulo:20240518T220000
DTSTAMP:20260420T093051
CREATED:20240506T150259Z
LAST-MODIFIED:20240506T150259Z
UID:20028-1716037200-1716069600@agendadovinho.com.br
SUMMARY:FESTIVAL DO VINHO
DESCRIPTION:
URL:https://agendadovinho.com.br/event/festival-do-vinho/
LOCATION:Praça José Mendes Junior\, Savassi\, Belo Horizonte\, MG\, 30140-010\, Brasil
CATEGORIES:Degustação,MG - Belo Horizonte
ATTACH;FMTTYPE=image/png:https://agendadovinho.com.br/wp-content/uploads/2024/05/festival-do-vinho_180524.png
END:VEVENT
BEGIN:VEVENT
DTSTART;TZID=America/Sao_Paulo:20240518T170000
DTEND;TZID=America/Sao_Paulo:20240518T213000
DTSTAMP:20260420T093051
CREATED:20240503T151758Z
LAST-MODIFIED:20240503T151758Z
UID:19998-1716051600-1716067800@agendadovinho.com.br
SUMMARY:Viña Wine Experience
DESCRIPTION:
URL:https://agendadovinho.com.br/event/vina-wine-experience/
LOCATION:Espaço Louge Coco Bambu\, Av. Miguel Sutil\, 9300 - LUC 1001 - Santa Rosa\, Cuiabá\, MT\, 78040-365\, Brasil
CATEGORIES:Degustação,MT - Cuiabá
ATTACH;FMTTYPE=image/jpeg:https://agendadovinho.com.br/wp-content/uploads/2024/05/vina-wine-experience_180524.jpg
END:VEVENT
END:VCALENDAR