BEGIN:VCALENDAR
VERSION:2.0
PRODID:-//Agenda do Vinho - ECPv4.9.0//NONSGML v1.0//EN
CALSCALE:GREGORIAN
METHOD:PUBLISH
X-WR-CALNAME:Agenda do Vinho
X-ORIGINAL-URL:https://agendadovinho.com.br
X-WR-CALDESC:Eventos para Agenda do Vinho
BEGIN:VEVENT
DTSTART;TZID=America/Sao_Paulo:20240517T120000
DTEND;TZID=America/Sao_Paulo:20240517T180000
DTSTAMP:20260420T092749
CREATED:20240412T143535Z
LAST-MODIFIED:20240412T143535Z
UID:19878-1715947200-1715968800@agendadovinho.com.br
SUMMARY:Vinhos na Serra edição 2024
DESCRIPTION:
URL:https://agendadovinho.com.br/event/vinhos-na-serra-edicao-2024/
LOCATION:Tênis Clube Campos do Jordão\, Av. Paulo Ribas\, 76 - Capivari\, Campos do Jordão\, SP\, 12460-000\, Brasil
CATEGORIES:Degustação,SP - Demais cidades
ATTACH;FMTTYPE=image/png:https://agendadovinho.com.br/wp-content/uploads/2024/04/vinhos-na-serra_170524.png
END:VEVENT
BEGIN:VEVENT
DTSTART;TZID=America/Sao_Paulo:20240517T180000
DTEND;TZID=America/Sao_Paulo:20240517T210000
DTSTAMP:20260420T092749
CREATED:20240312T182514Z
LAST-MODIFIED:20240312T182514Z
UID:19551-1715968800-1715979600@agendadovinho.com.br
SUMMARY:Degustação Guiada de Espumantes Brasileiros
DESCRIPTION:
URL:https://agendadovinho.com.br/event/degustacao-guiada-de-espumantes-brasileiros/
LOCATION:Impact Hub Ubatuba\, R. Guaicurus\, 310 - Barra da Lagoa\, Ubatuba\, SP\, 11689-048\, Brasil
CATEGORIES:Degustação,SP - Demais cidades
ATTACH;FMTTYPE=image/jpeg:https://agendadovinho.com.br/wp-content/uploads/2024/03/degustacao-guiada_170524.jpg
END:VEVENT
END:VCALENDAR