BEGIN:VCALENDAR
VERSION:2.0
PRODID:-//Agenda do Vinho - ECPv4.9.0//NONSGML v1.0//EN
CALSCALE:GREGORIAN
METHOD:PUBLISH
X-WR-CALNAME:Agenda do Vinho
X-ORIGINAL-URL:https://agendadovinho.com.br
X-WR-CALDESC:Eventos para Agenda do Vinho
BEGIN:VEVENT
DTSTART;TZID=America/Sao_Paulo:20240516T190000
DTEND;TZID=America/Sao_Paulo:20240516T220000
DTSTAMP:20260420T092950
CREATED:20240403T144413Z
LAST-MODIFIED:20240403T144413Z
UID:19780-1715886000-1715896800@agendadovinho.com.br
SUMMARY:11° Feira de Vinhos | Amicci Anchieta | Experiência Enogastronômica - SJC
DESCRIPTION:
URL:https://agendadovinho.com.br/event/11-feira-de-vinhos-amicci-anchieta-experiencia-enogastronomica-sjc/
LOCATION:Amicci Anchieta\, Av. Anchieta\, 225 - Jardim Esplanada\, São José dos Campos\, SP\, 12242-280\, Brasil
CATEGORIES:Degustação,SP - Demais cidades
ATTACH;FMTTYPE=image/jpeg:https://agendadovinho.com.br/wp-content/uploads/2024/04/feira-de-vinhos_160524.jpg
END:VEVENT
BEGIN:VEVENT
DTSTART;TZID=America/Sao_Paulo:20240516T190000
DTEND;TZID=America/Sao_Paulo:20240516T220000
DTSTAMP:20260420T092950
CREATED:20240423T170514Z
LAST-MODIFIED:20240423T170514Z
UID:19980-1715886000-1715896800@agendadovinho.com.br
SUMMARY:DiwineDay Belvedere Square - Open Wine e Ricardo Hamdan Cozinha Árabe
DESCRIPTION:
URL:https://agendadovinho.com.br/event/diwineday-belvedere-square-open-wine-e-ricardo-hamdan-cozinha-arabe/
LOCATION:Belvedere Square\, Av. Celso Porfírio Machado\, 200 - Belvedere\, Belo Horizonte\, MG\, 30320-400\, Brasil
CATEGORIES:Degustação,MG - Belo Horizonte
ATTACH;FMTTYPE=image/jpeg:https://agendadovinho.com.br/wp-content/uploads/2024/04/diwine-day_160524.jpg
END:VEVENT
BEGIN:VEVENT
DTSTART;TZID=America/Sao_Paulo:20240516T193000
DTEND;TZID=America/Sao_Paulo:20240516T223000
DTSTAMP:20260420T092950
CREATED:20240425T145906Z
LAST-MODIFIED:20240425T145906Z
UID:19988-1715887800-1715898600@agendadovinho.com.br
SUMMARY:Happy Hour com Degustação de 4 Vinhos e tábua de frios com Saber de Vinho
DESCRIPTION:
URL:https://agendadovinho.com.br/event/happy-hour-com-degustacao-de-4-vinhos-e-tabua-de-frios-com-saber-de-vinho/
LOCATION:Sacra Rolha Wine Bar\, R. Rio Grande\, 304 - Vila Mariana\, São Paulo\, SP\, 04018-000\, Brasil
CATEGORIES:Degustação,SP - São Paulo
ATTACH;FMTTYPE=image/jpeg:https://agendadovinho.com.br/wp-content/uploads/2024/04/happy-hour-com-degustacao_160524.jpg
END:VEVENT
END:VCALENDAR