BEGIN:VCALENDAR
VERSION:2.0
PRODID:-//Agenda do Vinho - ECPv4.9.0//NONSGML v1.0//EN
CALSCALE:GREGORIAN
METHOD:PUBLISH
X-WR-CALNAME:Agenda do Vinho
X-ORIGINAL-URL:https://agendadovinho.com.br
X-WR-CALDESC:Eventos para Agenda do Vinho
BEGIN:VEVENT
DTSTART;TZID=America/Sao_Paulo:20240419T180000
DTEND;TZID=America/Sao_Paulo:20240419T220000
DTSTAMP:20260420T103944
CREATED:20240327T183216Z
LAST-MODIFIED:20240327T183216Z
UID:19734-1713549600-1713564000@agendadovinho.com.br
SUMMARY:Vino! Festival de Vinhos
DESCRIPTION:
URL:https://agendadovinho.com.br/event/vino-festival-de-vinhos-3/
LOCATION:Mercado da Torre – Gastronomia e Serviços\, Rua José Bonifácio\, 747\, Torre\, Recife\, PE\, Brasil
CATEGORIES:Degustação,PE - Recife
ATTACH;FMTTYPE=image/png:https://agendadovinho.com.br/wp-content/uploads/2024/03/festival-de-vinhos_190423.png
END:VEVENT
BEGIN:VEVENT
DTSTART;TZID=America/Sao_Paulo:20240419T183000
DTEND;TZID=America/Sao_Paulo:20240419T210000
DTSTAMP:20260420T103944
CREATED:20240307T204902Z
LAST-MODIFIED:20240307T204902Z
UID:19532-1713551400-1713560400@agendadovinho.com.br
SUMMARY:Degustação Guiada de Espumantes Brasileiros - Vale do São Francisco
DESCRIPTION:
URL:https://agendadovinho.com.br/event/degustacao-guiada-de-espumantes-brasileiros-vale-do-sao-francisco/
LOCATION:Impact Hub Ubatuba\, R. Guaicurus\, 310 - Barra da Lagoa\, Ubatuba\, SP\, 11689-048\, Brasil
CATEGORIES:Degustação,SP - Demais cidades
ATTACH;FMTTYPE=image/jpeg:https://agendadovinho.com.br/wp-content/uploads/2024/03/degustacao-guiada-de-espumantes-brasileiros_190424.jpg
END:VEVENT
BEGIN:VEVENT
DTSTART;TZID=America/Sao_Paulo:20240419T200000
DTEND;TZID=America/Sao_Paulo:20240419T200000
DTSTAMP:20260420T103944
CREATED:20240326T144041Z
LAST-MODIFIED:20240326T144041Z
UID:19721-1713556800-1713556800@agendadovinho.com.br
SUMMARY:Degustação - vinhos sustentáveis
DESCRIPTION:
URL:https://agendadovinho.com.br/event/degustacao-vinhos-sustentaveis/
LOCATION:Monte Cristo Wine Bar\, R. das Figueiras\, 631 - Jardim\, Santo André\, SP\, 09080-370\, Brasil
CATEGORIES:Degustação,SP - Demais cidades
ATTACH;FMTTYPE=image/jpeg:https://agendadovinho.com.br/wp-content/uploads/2024/03/degustacao-vinhos-sustentaveis_190424.jpg
END:VEVENT
END:VCALENDAR