BEGIN:VCALENDAR
VERSION:2.0
PRODID:-//Agenda do Vinho - ECPv4.9.0//NONSGML v1.0//EN
CALSCALE:GREGORIAN
METHOD:PUBLISH
X-WR-CALNAME:Agenda do Vinho
X-ORIGINAL-URL:https://agendadovinho.com.br
X-WR-CALDESC:Eventos para Agenda do Vinho
BEGIN:VEVENT
DTSTART;TZID=America/Sao_Paulo:20240416T160000
DTEND;TZID=America/Sao_Paulo:20240416T160000
DTSTAMP:20260420T103944
CREATED:20240410T151840Z
LAST-MODIFIED:20240410T151840Z
UID:19838-1713283200-1713283200@agendadovinho.com.br
SUMMARY:Degustação guiada
DESCRIPTION:
URL:https://agendadovinho.com.br/event/degustacao-guiada-9/
LOCATION:Guarda Vinhos\, Av. Sumaré\, 1411 - Perdizes\, São Paulo\, SP\, 05016-110\, Brasil
CATEGORIES:Degustação,SP - São Paulo
ATTACH;FMTTYPE=image/jpeg:https://agendadovinho.com.br/wp-content/uploads/2024/04/degustacao-guiada_160424.jpg
END:VEVENT
END:VCALENDAR