BEGIN:VCALENDAR
VERSION:2.0
PRODID:-//Agenda do Vinho - ECPv4.9.0//NONSGML v1.0//EN
CALSCALE:GREGORIAN
METHOD:PUBLISH
X-WR-CALNAME:Agenda do Vinho
X-ORIGINAL-URL:https://agendadovinho.com.br
X-WR-CALDESC:Eventos para Agenda do Vinho
BEGIN:VEVENT
DTSTART;TZID=America/Sao_Paulo:20240321T190000
DTEND;TZID=America/Sao_Paulo:20240321T190000
DTSTAMP:20260420T120956
CREATED:20240320T193830Z
LAST-MODIFIED:20240320T193830Z
UID:19648-1711047600-1711047600@agendadovinho.com.br
SUMMARY:Degustação de vinhos e pizzas
DESCRIPTION:
URL:https://agendadovinho.com.br/event/degustacao-de-vinhos-e-pizzas/
LOCATION:Lareira Original\, R. Maj. Ávila\, 185 - Loja A - Tijuca\, Rio de Janeiro\, RJ\, 20540-006\, Brasil
CATEGORIES:Degustação,RJ - Demais cidades
ATTACH;FMTTYPE=image/jpeg:https://agendadovinho.com.br/wp-content/uploads/2024/03/degustacao-de-vinhos-e-pizzas_210324.jpg
END:VEVENT
BEGIN:VEVENT
DTSTART;TZID=America/Sao_Paulo:20240321T193000
DTEND;TZID=America/Sao_Paulo:20240321T193000
DTSTAMP:20260420T120956
CREATED:20240227T154701Z
LAST-MODIFIED:20240227T154701Z
UID:19436-1711049400-1711049400@agendadovinho.com.br
SUMMARY:3° Winefull Tasting
DESCRIPTION:
URL:https://agendadovinho.com.br/event/3-winefull-tasting/
LOCATION:Estação Parrilla\, R. Gen. Osório\, 156 - Santa Paula\, São Caetano do Sul\, SP\, 09541-320\, Brasil
CATEGORIES:Degustação,SP - Demais cidades
ATTACH;FMTTYPE=image/jpeg:https://agendadovinho.com.br/wp-content/uploads/2024/02/winefull-tasting_210324.jpg
END:VEVENT
BEGIN:VEVENT
DTSTART;TZID=America/Sao_Paulo:20240321T193000
DTEND;TZID=America/Sao_Paulo:20240321T213000
DTSTAMP:20260420T120956
CREATED:20240320T194229Z
LAST-MODIFIED:20240320T194229Z
UID:19649-1711049400-1711056600@agendadovinho.com.br
SUMMARY:Degustação de vinhos da Macedônia do Norte
DESCRIPTION:
URL:https://agendadovinho.com.br/event/degustacao-de-vinhos-da-macedonia-do-norte/
LOCATION:Winery Gifts\, R. Min. Roberto Cardoso Alves\, 359 - loja 117 - Alto da Boa Vista\, São Paulo\, SP\, 04737-000\, Brasil
CATEGORIES:Degustação,SP - São Paulo
ATTACH;FMTTYPE=image/jpeg:https://agendadovinho.com.br/wp-content/uploads/2024/03/degustacao_210324.jpg
END:VEVENT
END:VCALENDAR