BEGIN:VCALENDAR
VERSION:2.0
PRODID:-//Agenda do Vinho - ECPv4.9.0//NONSGML v1.0//EN
CALSCALE:GREGORIAN
METHOD:PUBLISH
X-WR-CALNAME:Agenda do Vinho
X-ORIGINAL-URL:https://agendadovinho.com.br
X-WR-CALDESC:Eventos para Agenda do Vinho
BEGIN:VEVENT
DTSTART;TZID=America/Sao_Paulo:20240320T190000
DTEND;TZID=America/Sao_Paulo:20240320T230000
DTSTAMP:20260420T121028
CREATED:20240312T151100Z
LAST-MODIFIED:20240312T151100Z
UID:19544-1710961200-1710975600@agendadovinho.com.br
SUMMARY:Degustação Vinhos Da Moldálvia
DESCRIPTION:
URL:https://agendadovinho.com.br/event/degustacao-vinhos-da-moldalvia/
LOCATION:Casa Vasco\, R. Vasco da Gama\, 207 - Bom Fim\, Porto Alegre\, RS\, 90420-111\, Brasil
CATEGORIES:Degustação,RS - Porto Alegre
ATTACH;FMTTYPE=image/jpeg:https://agendadovinho.com.br/wp-content/uploads/2024/03/degustacao-vinhos-da-moldavia_200324.jpg
END:VEVENT
BEGIN:VEVENT
DTSTART;TZID=America/Sao_Paulo:20240320T200000
DTEND;TZID=America/Sao_Paulo:20240320T220000
DTSTAMP:20260420T121028
CREATED:20240305T201930Z
LAST-MODIFIED:20240305T201930Z
UID:19521-1710964800-1710972000@agendadovinho.com.br
SUMMARY:Masterclass Presencial Saber de Vinho - Degustação de 5 vinhos espanhóis Super Premium
DESCRIPTION:
URL:https://agendadovinho.com.br/event/masterclass-presencial-saber-de-vinho-degustacao-de-5-vinhos-espanhois-super-premium/
LOCATION:El Mercado Ibérico\, R. Pamplona\, 310 - Bela Vista\, São Paulo\, SP\, 01405-000\, Brasil
CATEGORIES:Degustação,SP - São Paulo
ATTACH;FMTTYPE=image/jpeg:https://agendadovinho.com.br/wp-content/uploads/2024/03/masterclass-presencial-saber-de-vinho_200324.jpg
END:VEVENT
BEGIN:VEVENT
DTSTART;TZID=America/Sao_Paulo:20240320T200000
DTEND;TZID=America/Sao_Paulo:20240320T200000
DTSTAMP:20260420T121028
CREATED:20240320T193019Z
LAST-MODIFIED:20240320T193019Z
UID:19646-1710964800-1710964800@agendadovinho.com.br
SUMMARY:Degustação Tenuta Foppa e Ambrosi
DESCRIPTION:
URL:https://agendadovinho.com.br/event/degustacao-tenuta-foppa-e-ambrosi/
LOCATION:Desenrolha\, R. das Arraias\, 50 - Parque Res. Aquarius\, São José dos Campos\, SP\, 12246-330\, Brasil
CATEGORIES:Degustação,SP - Demais cidades
ATTACH;FMTTYPE=image/jpeg:https://agendadovinho.com.br/wp-content/uploads/2024/03/degustacao_200324.jpg
END:VEVENT
END:VCALENDAR