BEGIN:VCALENDAR
VERSION:2.0
PRODID:-//Agenda do Vinho - ECPv4.9.0//NONSGML v1.0//EN
CALSCALE:GREGORIAN
METHOD:PUBLISH
X-WR-CALNAME:Agenda do Vinho
X-ORIGINAL-URL:https://agendadovinho.com.br
X-WR-CALDESC:Eventos para Agenda do Vinho
BEGIN:VEVENT
DTSTART;TZID=America/Sao_Paulo:20240228T163000
DTEND;TZID=America/Sao_Paulo:20240228T163000
DTSTAMP:20260420T134427
CREATED:20240220T182851Z
LAST-MODIFIED:20240226T183704Z
UID:19264-1709137800-1709137800@agendadovinho.com.br
SUMMARY:Degustação dirigida - Vinhos da Bodega Budeger com enólogo especialista
DESCRIPTION:
URL:https://agendadovinho.com.br/event/degustacao-dirigida-vinhos-da-bodega-budeger-com-enologo-especialista/
LOCATION:Vinoteca Escola de Vinhos e Adega\, Rua 13\, 1268\, Setor Marista\, Goiânia\, GO\, Brasil
CATEGORIES:Degustação,GO - Goiânia
ATTACH;FMTTYPE=image/jpeg:https://agendadovinho.com.br/wp-content/uploads/2024/02/degustação-dirigida_280224.jpg
END:VEVENT
BEGIN:VEVENT
DTSTART;TZID=America/Sao_Paulo:20240228T190000
DTEND;TZID=America/Sao_Paulo:20240228T230000
DTSTAMP:20260420T134427
CREATED:20240220T160125Z
LAST-MODIFIED:20240220T160125Z
UID:19257-1709146800-1709161200@agendadovinho.com.br
SUMMARY:Degustação com Harmonização: Vinhos da ARTISTI
DESCRIPTION:
URL:https://agendadovinho.com.br/event/degustacao-com-harmonizacao-vinhos-da-artisti/
LOCATION:Casa Vasco\, R. Vasco da Gama\, 207 - Bom Fim\, Porto Alegre\, RS\, 90420-111\, Brasil
CATEGORIES:Degustação,RS - Porto Alegre
ATTACH;FMTTYPE=image/jpeg:https://agendadovinho.com.br/wp-content/uploads/2024/02/degustação-com-harmonização_280224.jpg
END:VEVENT
BEGIN:VEVENT
DTSTART;TZID=America/Sao_Paulo:20240228T200000
DTEND;TZID=America/Sao_Paulo:20240228T220000
DTSTAMP:20260420T134427
CREATED:20240222T141224Z
LAST-MODIFIED:20240222T141224Z
UID:19305-1709150400-1709157600@agendadovinho.com.br
SUMMARY:2° Degustação de Vinhos Edição Summer Volpi e Cantu Grupo Wine
DESCRIPTION:
URL:https://agendadovinho.com.br/event/2-degustacao-de-vinhos-edicao-summer-volpi-e-cantu-grupo-wine/
LOCATION:Volpi Wine Bar\, Av. Comendador Pedro Morganti\, 4965 - Ap 05 - Monte Alegre\, Piracicaba\, SP\, 13415-000\, Brasil
CATEGORIES:Degustação,SP - Demais cidades
ATTACH;FMTTYPE=image/jpeg:https://agendadovinho.com.br/wp-content/uploads/2024/02/degustação-volpi_280224.jpg
END:VEVENT
END:VCALENDAR