BEGIN:VCALENDAR
VERSION:2.0
PRODID:-//Agenda do Vinho - ECPv4.9.0//NONSGML v1.0//EN
CALSCALE:GREGORIAN
METHOD:PUBLISH
X-WR-CALNAME:Agenda do Vinho
X-ORIGINAL-URL:https://agendadovinho.com.br
X-WR-CALDESC:Eventos para Agenda do Vinho
BEGIN:VEVENT
DTSTART;TZID=America/Sao_Paulo:20240127T150000
DTEND;TZID=America/Sao_Paulo:20240127T220000
DTSTAMP:20260420T150345
CREATED:20240120T130148Z
LAST-MODIFIED:20240120T130148Z
UID:19149-1706367600-1706392800@agendadovinho.com.br
SUMMARY:Sparkling Festival 2024 - RJ
DESCRIPTION:
URL:https://agendadovinho.com.br/event/sparkling-festival-2024-rj-2/
LOCATION:Jockey Club Brasileiro\, Praça Santos Dumont\, 31 - Gávea\, Rio de Janeiro\, RJ\, 22470-060\, Brasil
CATEGORIES:Degustação,RJ - Rio de Janeiro
ATTACH;FMTTYPE=image/png:https://agendadovinho.com.br/wp-content/uploads/2024/01/sparkling-festival_260124.png
END:VEVENT
END:VCALENDAR