BEGIN:VCALENDAR
VERSION:2.0
PRODID:-//Agenda do Vinho - ECPv4.9.0//NONSGML v1.0//EN
CALSCALE:GREGORIAN
METHOD:PUBLISH
X-WR-CALNAME:Agenda do Vinho
X-ORIGINAL-URL:https://agendadovinho.com.br
X-WR-CALDESC:Eventos para Agenda do Vinho
BEGIN:VEVENT
DTSTART;TZID=America/Sao_Paulo:20231111T113000
DTEND;TZID=America/Sao_Paulo:20231111T220000
DTSTAMP:20260420T180715
CREATED:20231008T232336Z
LAST-MODIFIED:20231008T232336Z
UID:18967-1699702200-1699740000@agendadovinho.com.br
SUMMARY:Sparkling Festival 2023 - SP
DESCRIPTION:
URL:https://agendadovinho.com.br/event/sparkling-festival-2023-sp-2/
LOCATION:Parque Burle Marx\, Av. Dona Helena Pereira de Moraes\, 200 - Vila Andrade\, São Paulo\, SP\, 05707-400\, Brasil
CATEGORIES:Degustação,SP - São Paulo
ATTACH;FMTTYPE=image/jpeg:https://agendadovinho.com.br/wp-content/uploads/2023/10/sparkling-festival_111123.jpg
END:VEVENT
BEGIN:VEVENT
DTSTART;TZID=America/Sao_Paulo:20231111T120000
DTEND;TZID=America/Sao_Paulo:20231111T210000
DTSTAMP:20260420T180715
CREATED:20231007T224226Z
LAST-MODIFIED:20231007T224226Z
UID:18956-1699704000-1699736400@agendadovinho.com.br
SUMMARY:Encontro de Vinhos São Paulo - Novembro
DESCRIPTION:
URL:https://agendadovinho.com.br/event/encontro-de-vinhos-sao-paulo-novembro/
LOCATION:Casa das Caldeiras\, Av. Francisco Matarazzo\, 2000 - Água Branca\, São Paulo\, SP\, 05001-200\, Brasil
CATEGORIES:Degustação,SP - São Paulo
ATTACH;FMTTYPE=image/jpeg:https://agendadovinho.com.br/wp-content/uploads/2023/10/encontro-de-vinhos_111123.jpg
END:VEVENT
BEGIN:VEVENT
DTSTART;TZID=America/Sao_Paulo:20231111T130000
DTEND;TZID=America/Sao_Paulo:20231111T200000
DTSTAMP:20260420T180715
CREATED:20231024T190015Z
LAST-MODIFIED:20231024T190015Z
UID:19017-1699707600-1699732800@agendadovinho.com.br
SUMMARY:Bendito Vinho Wine Day 1ª Edição
DESCRIPTION:
URL:https://agendadovinho.com.br/event/bendito-vinho-wine-day-1a-edicao/
LOCATION:Bendito Vinho\, R. Airo\, 69 - Vila Gilda\, Santo André\, SP\, 09190-400\, Brasil
CATEGORIES:Degustação,SP - Demais cidades
ATTACH;FMTTYPE=image/jpeg:https://agendadovinho.com.br/wp-content/uploads/2023/10/bendito-vinho_111123.jpg
END:VEVENT
END:VCALENDAR