BEGIN:VCALENDAR
VERSION:2.0
PRODID:-//Agenda do Vinho - ECPv4.9.0//NONSGML v1.0//EN
CALSCALE:GREGORIAN
METHOD:PUBLISH
X-WR-CALNAME:Agenda do Vinho
X-ORIGINAL-URL:https://agendadovinho.com.br
X-WR-CALDESC:Eventos para Agenda do Vinho
BEGIN:VEVENT
DTSTART;TZID=America/Sao_Paulo:20230608T180000
DTEND;TZID=America/Sao_Paulo:20230618T230000
DTSTAMP:20260421T005130
CREATED:20230524T170150Z
LAST-MODIFIED:20230524T170150Z
UID:18772-1686247200-1687129200@agendadovinho.com.br
SUMMARY:Wine In Búzios
DESCRIPTION:A 4ª edição do Wine in Búzios acontecerá entre os dias 08 e 18 de junho\, na Cidade de Armação dos Búzios\, situada na Região dos Lagos\, no Rio de Janeiro. O evento tem início no feriado de Corpus Christi\, e pretende atrair turistas interessados em vinho e gastronomia\, para aproveitar uma oportunidade única de apreciar diferentes rótulos\, pratos\, música e eventos que exploram a enogastronomia em meio a um dos maiores pontos turísticos do Brasil. A atração pretende fomentar a economia local\, movimentando o setor hoteleiro e gastronômico da cidade. A programação completa será divulgada em breve. Informações pelo site: https://www.wineinbuzios.com/ \n
URL:https://agendadovinho.com.br/event/wine-in-buzios/
LOCATION:Praça Santos Dumont\, R. César Augusto São Luís\, 334 - Lot. Triangulo de Buzios\, Búzios\, RJ\, 28950-000\, Brasil
CATEGORIES:Degustação,RJ - Demais cidades
ATTACH;FMTTYPE=image/png:https://agendadovinho.com.br/wp-content/uploads/2023/05/wine-in-buzios_080623.png
END:VEVENT
END:VCALENDAR