BEGIN:VCALENDAR
VERSION:2.0
PRODID:-//Agenda do Vinho - ECPv4.9.0//NONSGML v1.0//EN
CALSCALE:GREGORIAN
METHOD:PUBLISH
X-WR-CALNAME:Agenda do Vinho
X-ORIGINAL-URL:https://agendadovinho.com.br
X-WR-CALDESC:Eventos para Agenda do Vinho
BEGIN:VEVENT
DTSTART;TZID=America/Sao_Paulo:20230607T193000
DTEND;TZID=America/Sao_Paulo:20230607T235900
DTSTAMP:20260421T005157
CREATED:20230524T171002Z
LAST-MODIFIED:20230524T171002Z
UID:18786-1686166200-1686182340@agendadovinho.com.br
SUMMARY:6ª Mostra de Vinhos Bigmais 2023 - Edição Inverno
DESCRIPTION:
URL:https://agendadovinho.com.br/event/6a-mostra-de-vinhos-bigmais-2023-edicao-inverno/
LOCATION:Espaço Garden Eventos\, Av. Moacir Paleta\, 4000 - Capim\, Gov. Valadares\, MG\, Brasil
CATEGORIES:Degustação,MG - Demais cidades
ATTACH;FMTTYPE=image/png:https://agendadovinho.com.br/wp-content/uploads/2023/05/mostra-de-vinhos-bigmais_070623.png
END:VEVENT
END:VCALENDAR