BEGIN:VCALENDAR
VERSION:2.0
PRODID:-//Agenda do Vinho - ECPv4.9.0//NONSGML v1.0//EN
CALSCALE:GREGORIAN
METHOD:PUBLISH
X-WR-CALNAME:Agenda do Vinho
X-ORIGINAL-URL:https://agendadovinho.com.br
X-WR-CALDESC:Eventos para Agenda do Vinho
BEGIN:VEVENT
DTSTART;TZID=America/Sao_Paulo:20230601T190000
DTEND;TZID=America/Sao_Paulo:20230601T220000
DTSTAMP:20260421T005157
CREATED:20230503T172633Z
LAST-MODIFIED:20230503T172633Z
UID:18696-1685646000-1685656800@agendadovinho.com.br
SUMMARY:DEGUSTAÇÃO DE VINHOS CHARDONNAY'S ÀS CEGAS ENTRE TAÇAS E BEIJOS
DESCRIPTION:
URL:https://agendadovinho.com.br/event/degustacao-de-vinhos-chardonnays-as-cegas-entre-tacas-e-beijos/
LOCATION:Bistrô Reserva Cultural São Paulo\, Av. Paulista\, 900 - Bela Vista\, São Paulo\, SP\, 01311-000\, Brasil
CATEGORIES:Degustação,SP - São Paulo
ATTACH;FMTTYPE=image/png:https://agendadovinho.com.br/wp-content/uploads/2023/05/degustação-de-chardonnay_010623.png
END:VEVENT
END:VCALENDAR