BEGIN:VCALENDAR
VERSION:2.0
PRODID:-//Agenda do Vinho - ECPv4.9.0//NONSGML v1.0//EN
CALSCALE:GREGORIAN
METHOD:PUBLISH
X-WR-CALNAME:Agenda do Vinho
X-ORIGINAL-URL:https://agendadovinho.com.br
X-WR-CALDESC:Eventos para Agenda do Vinho
BEGIN:VEVENT
DTSTART;TZID=America/Sao_Paulo:20230519T200000
DTEND;TZID=America/Sao_Paulo:20230519T220000
DTSTAMP:20260421T022716
CREATED:20230503T171654Z
LAST-MODIFIED:20230503T171654Z
UID:18683-1684526400-1684533600@agendadovinho.com.br
SUMMARY:O Vinho no Brasil: História e Panorama do Mercado do Vinho Brasileiro
DESCRIPTION:DEGUSTAÇÃO O VINHO NO BRASIL: HISTÓRIA E PANORAMA DO MERCADO DO VINHO BRASILEIRO \n  \nA ABS-SP/Subseção Grande ABC e o Mont Cristo Wine Bar convidam você para falarmos sobre o vinho brasileiro. \n  \nEm nosso proxima degustação\, que será conduzida pela Diretoria da ABS-SP/Subseção Grande ABC\, serão apresentados rótulos representativos das principais regiões vitivinícolas do Brasil. \n  \nTudo isso harmonizado com a excelente gastronomia do Mont Cristo Wine Bar. \n  \nInvestimento: R$149\,00 \nData e horário: 19/05/2023 – 20h00 \nLocal: Mont Cristo Wine Bar (Rua das Figueiras\, 631 – Santo André-SP) \n  \nInteressados entrar em contato com o Instagram @abs_grande_abc \n
URL:https://agendadovinho.com.br/event/o-vinho-no-brasil-historia-e-panorama-do-mercado-do-vinho-brasileiro/
LOCATION:Mont Cristo Wine Bar\, R. das Figueiras\, 631 - Jardim\, Santo André\, SP\, 09080-370
CATEGORIES:Degustação,SP - Demais cidades
ATTACH;FMTTYPE=image/jpeg:https://agendadovinho.com.br/wp-content/uploads/2023/05/inbound3164547307864572740.jpg
END:VEVENT
END:VCALENDAR