BEGIN:VCALENDAR
VERSION:2.0
PRODID:-//Agenda do Vinho - ECPv4.9.0//NONSGML v1.0//EN
CALSCALE:GREGORIAN
METHOD:PUBLISH
X-WR-CALNAME:Agenda do Vinho
X-ORIGINAL-URL:https://agendadovinho.com.br
X-WR-CALDESC:Eventos para Agenda do Vinho
BEGIN:VEVENT
DTSTART;TZID=America/Sao_Paulo:20230518T190000
DTEND;TZID=America/Sao_Paulo:20230518T220000
DTSTAMP:20260421T022748
CREATED:20230512T191254Z
LAST-MODIFIED:20230512T191254Z
UID:18752-1684436400-1684447200@agendadovinho.com.br
SUMMARY:Degustação Guiada de Vinhos Chilenos - Vinícola Klammer
DESCRIPTION:
URL:https://agendadovinho.com.br/event/degustacao-guiada-de-vinhos-chilenos-vinicola-klammer/
LOCATION:WX Vinhos & Experiências\, R. Flórida\, 101 - Carmo\, Belo Horizonte\, MG\, 30380-432\, Brasil
CATEGORIES:Degustação,MG - Belo Horizonte
ATTACH;FMTTYPE=image/png:https://agendadovinho.com.br/wp-content/uploads/2023/05/degustação-guiada_180523.png
END:VEVENT
END:VCALENDAR