BEGIN:VCALENDAR
VERSION:2.0
PRODID:-//Agenda do Vinho - ECPv4.9.0//NONSGML v1.0//EN
CALSCALE:GREGORIAN
METHOD:PUBLISH
X-WR-CALNAME:Agenda do Vinho
X-ORIGINAL-URL:https://agendadovinho.com.br
X-WR-CALDESC:Eventos para Agenda do Vinho
BEGIN:VEVENT
DTSTART;TZID=America/Sao_Paulo:20230511T190000
DTEND;TZID=America/Sao_Paulo:20230511T203000
DTSTAMP:20260421T022819
CREATED:20230429T154036Z
LAST-MODIFIED:20230429T154036Z
UID:18669-1683831600-1683837000@agendadovinho.com.br
SUMMARY:Degustando o Chile - Barra
DESCRIPTION:
URL:https://agendadovinho.com.br/event/degustando-o-chile-barra/
LOCATION:Supermercado Zona Sul – Santa Mônica\, Av. das Américas\, 8888 - Barra da Tijuca\, Rio de Janeiro\, RJ\, 22793-020\, Brasil
CATEGORIES:Degustação
ATTACH;FMTTYPE=image/jpeg:https://agendadovinho.com.br/wp-content/uploads/2023/04/degustando-o-chile_110523.jpg
END:VEVENT
END:VCALENDAR