BEGIN:VCALENDAR
VERSION:2.0
PRODID:-//Agenda do Vinho - ECPv4.9.0//NONSGML v1.0//EN
CALSCALE:GREGORIAN
METHOD:PUBLISH
X-WR-CALNAME:Agenda do Vinho
X-ORIGINAL-URL:https://agendadovinho.com.br
X-WR-CALDESC:Eventos para Agenda do Vinho
BEGIN:VEVENT
DTSTART;TZID=America/Sao_Paulo:20230506T130000
DTEND;TZID=America/Sao_Paulo:20230506T190000
DTSTAMP:20260421T022547
CREATED:20230429T152305Z
LAST-MODIFIED:20230429T152305Z
UID:18663-1683378000-1683399600@agendadovinho.com.br
SUMMARY:Vinho no Vila Flores | 2ª Edição
DESCRIPTION:
URL:https://agendadovinho.com.br/event/vinho-no-vila-flores-2a-edicao/
LOCATION:Associação Cultural Vila Flores\, R. São Carlos\, 753 - Floresta\, Porto Alegre\, RS\, Brasil
CATEGORIES:Degustação,RS - Porto Alegre
ATTACH;FMTTYPE=image/png:https://agendadovinho.com.br/wp-content/uploads/2023/04/vinho-no-vila-flores_060523.png
END:VEVENT
BEGIN:VEVENT
DTSTART;TZID=America/Sao_Paulo:20230506T160000
DTEND;TZID=America/Sao_Paulo:20230506T200000
DTSTAMP:20260421T022547
CREATED:20230429T153914Z
LAST-MODIFIED:20230429T153914Z
UID:18668-1683388800-1683403200@agendadovinho.com.br
SUMMARY:Gare du Vin Wine Day
DESCRIPTION:
URL:https://agendadovinho.com.br/event/gare-du-vin-wine-day/
LOCATION:Gare du Vin Wine\, RUA HENRIQUE VALGAS\, 112 Galpao 6 Lj 19-20 - Centro\, Florianópolis\, SC\, 88015-090\, Brasil
CATEGORIES:Degustação,SC - Florianópolis
ATTACH;FMTTYPE=image/jpeg:https://agendadovinho.com.br/wp-content/uploads/2023/04/gare-du-vin-wine-day_060523.jpg
END:VEVENT
BEGIN:VEVENT
DTSTART;TZID=America/Sao_Paulo:20230506T160000
DTEND;TZID=America/Sao_Paulo:20230506T200000
DTSTAMP:20260421T022547
CREATED:20230503T171140Z
LAST-MODIFIED:20230503T171140Z
UID:18685-1683388800-1683403200@agendadovinho.com.br
SUMMARY:Tasty Wine SP
DESCRIPTION:
URL:https://agendadovinho.com.br/event/tasty-wine-sp/
LOCATION:Dasian\, Av. Brg. Faria Lima\, 3732 - Itaim Bibi\, São Paulo\, SP\, 04538-132\, Brasil
CATEGORIES:Degustação,SP - São Paulo
ATTACH;FMTTYPE=image/jpeg:https://agendadovinho.com.br/wp-content/uploads/2023/05/tasty-wine_060523.jpg
END:VEVENT
BEGIN:VEVENT
DTSTART;TZID=America/Sao_Paulo:20230506T170000
DTEND;TZID=America/Sao_Paulo:20230506T220000
DTSTAMP:20260421T022547
CREATED:20230429T150217Z
LAST-MODIFIED:20230429T150217Z
UID:18658-1683392400-1683410400@agendadovinho.com.br
SUMMARY:Bahia Vinho Show 2023
DESCRIPTION:
URL:https://agendadovinho.com.br/event/bahia-vinho-show-2023-3/
LOCATION:Hotel Vila Galé\, Rua Morro do Escravo Miguel\, 320\, Ondina\, Salvador\, BA\, Brasil
CATEGORIES:BA - Salvador,Degustação
ATTACH;FMTTYPE=image/jpeg:https://agendadovinho.com.br/wp-content/uploads/2023/04/bahia-vinho-show_040523.jpg
END:VEVENT
END:VCALENDAR