BEGIN:VCALENDAR
VERSION:2.0
PRODID:-//Agenda do Vinho - ECPv4.9.0//NONSGML v1.0//EN
CALSCALE:GREGORIAN
METHOD:PUBLISH
X-WR-CALNAME:Agenda do Vinho
X-ORIGINAL-URL:https://agendadovinho.com.br
X-WR-CALDESC:Eventos para Agenda do Vinho
BEGIN:VEVENT
DTSTART;TZID=America/Sao_Paulo:20220721T120000
DTEND;TZID=America/Sao_Paulo:20220721T220000
DTSTAMP:20260421T172900
CREATED:20220615T151552Z
LAST-MODIFIED:20220627T194412Z
UID:18225-1658404800-1658440800@agendadovinho.com.br
SUMMARY:Wine Weekend
DESCRIPTION:A edição deste ano da Wine Weekend São Paulo Festival celebra o movimento Renascentista e toda a programação foi desenvolvida sobre o tema para proporcionar uma imersão do visitante na arte\, cultura e nas degustações dirigidas\, que terão como tema os vinhos do Velho Mundo. As regiões escolhidas pertencem ao berço do Renascimento: Itália\, França\, Portugal e Espanha. As degustações serão ministradas pelo jornalista especializado Eduardo Viotti\, realizador a 21 anos do Concurso de Vinhos e Destilados do Brasil. Com extensa experiência nesse segmento\, Viotti participa como jurado internacional dos principais concursos do mundo. \nNos quatro dias do evento\, o público terá a oportunidade de degustar e comprar vinhos de vários países\, de expositores brasileiros e estrangeiros\, com descontos de até 70%\, com vendas feitas de forma direta entre os produtores\, os importadores e os consumidores. \nEXPERIÊNCIAS \nMúsica ao vivo – Venha conhecer como eram as musicas no século XV em apresentações gratuitas durante o dia. \nExposição – Serão expostos no formato de fotografia  as principais obras dos principais artistas do movimento renascentista. \nEspaço Gourmet – Restaurante especializado em alta gastronomia italiana \nEspaço Kids – Área para suas crianças se divertirem com segurança \nEspaço PET \nPROGRAMAÇÃO / DEGUSTAÇÕES DIRIGIDAS \nITÁLIA \n​Dia 22/07/2022\, sexta-feira \n18h – Descubra porque os vinhos da Toscana são reconhecidos como os melhores do mundo \n20h – Sicília\, vinhos diferenciados por suas uvas ainda pouco conhecidas  do consumidor brasileiro \nFRANÇA \nDia 23/07/2022\, sábado \n16h – Vinhos Rosé\, ame-os ou deixe-os\, venha degustar e conhecer as principais regiões da França produtoras de Vinho Rosé. \n18h – Bordeaux X Borgonha\, você reconhece a diferença? Venha descobrir. \n20h – Champanhe: venha aprender drinks com essa tradicional bebida francesa. Entenda também a confusão sobre usar champagne ou champanhe. Para entender melhor\, o nome champagne significa champanhe em português. Tire as dúvidas que todos têm com um especialista. \nPORTUGAL E ESPANHA \nDia 24/07/2022\, domingo \n​15h – Conheça as principais regiões de Portugal e suas uvas ícones. \n17h – Espanha\, Rioja região e vinhos ainda pouco conhecidos dos brasileiros \n\nEm cada degustação serão servidos 3 vinhos\nÉ necessário ter o ingresso ou convite VIP para ter acesso ao evento e às degustações.\n\n As vendas de ingresso estão disponíveis no site www.wineweekend.com.br \n
URL:https://agendadovinho.com.br/event/wine-weekend-5/
LOCATION:Pavilhão das Culturas Brasileiras\, Av. Pedro Álvares Cabral\, s/n - Ibirapuera\, São Paulo\, SP\, 04094-000\, Brasil
CATEGORIES:Degustação,SP - São Paulo
ATTACH;FMTTYPE=image/jpeg:https://agendadovinho.com.br/wp-content/uploads/2022/06/Renascimento_datas.jpeg
END:VEVENT
END:VCALENDAR