BEGIN:VCALENDAR
VERSION:2.0
PRODID:-//Agenda do Vinho - ECPv4.9.0//NONSGML v1.0//EN
CALSCALE:GREGORIAN
METHOD:PUBLISH
X-WR-CALNAME:Agenda do Vinho
X-ORIGINAL-URL:https://agendadovinho.com.br
X-WR-CALDESC:Eventos para Agenda do Vinho
BEGIN:VEVENT
DTSTART;TZID=America/Sao_Paulo:20220619T130000
DTEND;TZID=America/Sao_Paulo:20220619T180000
DTSTAMP:20260421T185028
CREATED:20220614T151054Z
LAST-MODIFIED:20220614T151054Z
UID:18188-1655643600-1655661600@agendadovinho.com.br
SUMMARY:Feira Naturebas 2022
DESCRIPTION:19/jun \n
URL:https://agendadovinho.com.br/event/feira-naturebas-2022-2/
LOCATION:Ocupação 9 de Julho\, R. Álvaro de Carvalho\, 427 - Bela Vista\, São Paulo\, SP\, 01050-070\, Brasil
CATEGORIES:Degustação,SP - São Paulo
ATTACH;FMTTYPE=image/jpeg:https://agendadovinho.com.br/wp-content/uploads/2022/06/feira-naturebas_180622.jpg
END:VEVENT
END:VCALENDAR