BEGIN:VCALENDAR
VERSION:2.0
PRODID:-//Agenda do Vinho - ECPv4.9.0//NONSGML v1.0//EN
CALSCALE:GREGORIAN
METHOD:PUBLISH
X-WR-CALNAME:Agenda do Vinho
X-ORIGINAL-URL:https://agendadovinho.com.br
X-WR-CALDESC:Eventos para Agenda do Vinho
BEGIN:VEVENT
DTSTART;TZID=America/Sao_Paulo:20220608T193000
DTEND;TZID=America/Sao_Paulo:20220608T223000
DTSTAMP:20260421T184953
CREATED:20220510T132927Z
LAST-MODIFIED:20220515T194719Z
UID:18092-1654716600-1654727400@agendadovinho.com.br
SUMMARY:Wine Lounge: Douro & Duero - Comida\, Música e Vinho
DESCRIPTION:\n\n\nCOZINHA DO FRED E MISTRAL CONVIDAM PARA O \nWINE LOUNGE: Douro & Duero \n\n\n\nCoquetel Imersivo com Degustação de 6 rótulos de vinhos + Harmonização com Aperitivos.\n \nUm Evento Único e Exclusivo  \n  \n\n\n\nVIDEOGRAFISMO: MARIA FARKAS \nMUSICA: FLAVIO RODRIGUES E DJ BRANCA \nEMBAIXADORA DO VINHO: KEZIA GIUGNI \n\n\n\n\nMENÚ: CHEF FRED AVELLAR \n\n\n\n\nAPOIO DE PRODUÇÃO: RG PRODUÇÕES \n\n\n\n
URL:https://agendadovinho.com.br/event/wine-lounge-douro-duero-comida-musica-e-vinho/
LOCATION:Cozinha do Fred\, Rua Alcino Braga\, 180 - Paraíso\, São Paulo\, SP\, 04004-020\, Brasil
CATEGORIES:Degustação,SP - São Paulo
ATTACH;FMTTYPE=image/jpeg:https://agendadovinho.com.br/wp-content/uploads/2022/05/WhatsApp-Image-2022-05-12-at-14.27.45.jpeg
END:VEVENT
END:VCALENDAR