BEGIN:VCALENDAR
VERSION:2.0
PRODID:-//Agenda do Vinho - ECPv4.9.0//NONSGML v1.0//EN
CALSCALE:GREGORIAN
METHOD:PUBLISH
X-WR-CALNAME:Agenda do Vinho
X-ORIGINAL-URL:https://agendadovinho.com.br
X-WR-CALDESC:Eventos para Agenda do Vinho
BEGIN:VEVENT
DTSTART;TZID=America/Sao_Paulo:20220514T120000
DTEND;TZID=America/Sao_Paulo:20220514T160000
DTSTAMP:20260419T184620
CREATED:20220412T212326Z
LAST-MODIFIED:20220412T212326Z
UID:18052-1652529600-1652544000@agendadovinho.com.br
SUMMARY:Encontro de Vinhos Campinas
DESCRIPTION:14/05/2022 \n
URL:https://agendadovinho.com.br/event/encontro-de-vinhos-campinas-2/
LOCATION:Tênis Clube de Campinas – Sede Cambuí\, Rua Coronel Quirino\, 1346 - Cambuí\, Campinas\, SP\, 13025-002\, Brasil
CATEGORIES:Degustação,SP - Demais cidades
ATTACH;FMTTYPE=image/jpeg:https://agendadovinho.com.br/wp-content/uploads/2022/04/encontro-de-vinhos_140522.jpg
END:VEVENT
BEGIN:VEVENT
DTSTART;TZID=America/Sao_Paulo:20220514T170000
DTEND;TZID=America/Sao_Paulo:20220514T220000
DTSTAMP:20260419T184620
CREATED:20220412T210917Z
LAST-MODIFIED:20220511T172802Z
UID:18042-1652547600-1652565600@agendadovinho.com.br
SUMMARY:6ª edição do Bahia Vinho Show
DESCRIPTION:Quase tudo pronto para a 6ª edição do Bahia Vinho Show\, considerado um dos maiores eventos no segmento de enologia na Bahia. O evento\, comandado pelo diretor do Clube Gourmet Bahia\, Ivan Baldivieso\, será realizado entre os dias 12\, 13 e 14 de maio\, sempre das 17 às 22 horas\, no Hotel Vila Galé Salvador\, em Ondina. Numa extensa programação estão previstos degustação\, estandes com produtores e distribuidores de vinhos importados e nacionais\, cursos práticos e treinamentos. Também serão realizadas palestras com grandes nomes como Jaime de Oliveira\, sommelier\, juiz internacional de vinhos e consultor enogastronômico\, e Valdermar Lott\, enófilo e diretor de degustação da Enobahia. Os ingressos já estão à venda pelo link > www.sympla.com.br/evento__1513797 \n
URL:https://agendadovinho.com.br/event/6a-edicao-do-bahia-vinho-show-3/
LOCATION:Hotel Vila Galé\, Rua Morro do Escravo Miguel\, 320\, Ondina\, Salvador\, BA\, Brasil
CATEGORIES:BA - Salvador,Degustação
ATTACH;FMTTYPE=image/jpeg:https://agendadovinho.com.br/wp-content/uploads/2022/04/bahia-vinho-show_120522.jpg
END:VEVENT
BEGIN:VEVENT
DTSTART;TZID=America/Sao_Paulo:20220514T170000
DTEND;TZID=America/Sao_Paulo:20220514T210000
DTSTAMP:20260419T184620
CREATED:20220412T212344Z
LAST-MODIFIED:20220412T212344Z
UID:18053-1652547600-1652562000@agendadovinho.com.br
SUMMARY:Encontro de Vinhos Campinas
DESCRIPTION:14/05/2022 \n
URL:https://agendadovinho.com.br/event/encontro-de-vinhos-campinas-3/
LOCATION:Tênis Clube de Campinas – Sede Cambuí\, SP
CATEGORIES:Degustação,SP - Demais cidades
ATTACH;FMTTYPE=image/jpeg:https://agendadovinho.com.br/wp-content/uploads/2022/04/encontro-de-vinhos_140522.jpg
END:VEVENT
END:VCALENDAR