BEGIN:VCALENDAR
VERSION:2.0
PRODID:-//Agenda do Vinho - ECPv4.9.0//NONSGML v1.0//EN
CALSCALE:GREGORIAN
METHOD:PUBLISH
X-WR-CALNAME:Agenda do Vinho
X-ORIGINAL-URL:https://agendadovinho.com.br
X-WR-CALDESC:Eventos para Agenda do Vinho
BEGIN:VEVENT
DTSTART;TZID=America/Sao_Paulo:20210904T130000
DTEND;TZID=America/Sao_Paulo:20210904T190000
DTSTAMP:20260422T083706
CREATED:20210802T201313Z
LAST-MODIFIED:20210802T201313Z
UID:17656-1630760400-1630782000@agendadovinho.com.br
SUMMARY:Encontro de Vinhos Curitiba
DESCRIPTION:04/set – 13:00 \n
URL:https://agendadovinho.com.br/event/encontro-de-vinhos-curitiba-3/
LOCATION:Pestana Curitiba\, R. Comendador Araújo\, 499 - Centro\, Curitiba\, PR\, 80420-000\, Brasil
CATEGORIES:Degustação,PR - Curitiba
ATTACH;FMTTYPE=image/jpeg:https://agendadovinho.com.br/wp-content/uploads/2021/08/encontro-de-vinhos_040921.jpg
END:VEVENT
END:VCALENDAR