BEGIN:VCALENDAR
VERSION:2.0
PRODID:-//Agenda do Vinho - ECPv4.9.0//NONSGML v1.0//EN
CALSCALE:GREGORIAN
METHOD:PUBLISH
X-WR-CALNAME:Agenda do Vinho
X-ORIGINAL-URL:https://agendadovinho.com.br
X-WR-CALDESC:Eventos para Agenda do Vinho
BEGIN:VEVENT
DTSTART;TZID=America/Sao_Paulo:20210819T190000
DTEND;TZID=America/Sao_Paulo:20210819T190000
DTSTAMP:20260422T100309
CREATED:20210809T173758Z
LAST-MODIFIED:20210809T173758Z
UID:17684-1629399600-1629399600@agendadovinho.com.br
SUMMARY:Confraria Evino
DESCRIPTION:19/ago – 19:00 \n
URL:https://agendadovinho.com.br/event/confraria-evino/
LOCATION:Vídeo conferência
CATEGORIES:Degustação,Online
ATTACH;FMTTYPE=image/jpeg:https://agendadovinho.com.br/wp-content/uploads/2021/08/evino_190821.jpg
END:VEVENT
END:VCALENDAR