BEGIN:VCALENDAR
VERSION:2.0
PRODID:-//Agenda do Vinho - ECPv4.9.0//NONSGML v1.0//EN
CALSCALE:GREGORIAN
METHOD:PUBLISH
X-WR-CALNAME:Agenda do Vinho
X-ORIGINAL-URL:https://agendadovinho.com.br
X-WR-CALDESC:Eventos para Agenda do Vinho
BEGIN:VEVENT
DTSTART;TZID=America/Sao_Paulo:20200825T193000
DTEND;TZID=America/Sao_Paulo:20200825T210000
DTSTAMP:20260423T033019
CREATED:20200825T195435Z
LAST-MODIFIED:20200826T142859Z
UID:15787-1598383800-1598389200@agendadovinho.com.br
SUMMARY:DEGUSTAÇÃO TOP BLENDS LUIGI BOSCA
DESCRIPTION:Nesta terça\, 25\, às 19h30\, a Wine Out\, loja de vinhos na Barra da Tijuca\, promove evento – Degustação Top Blends da vinícola Argentina Luigi Bosca\, com presença confirmada do sommelier Marcelo Marques. Dentre os destaques da degustação\, está o tinto Bosca Los Nobles Malbec-Verdot\, vinhos de pequena produção\, composto de uvas Malbec e Petit Verdot vindas de vinhedos de mais de 90 anos\, e posterior estágio de 18 meses em tonéis de carvalho francês. Além dos rótulos argentinos Bosca Testimônio Sauvignon Blanc\, Bosca De Sangre e Bosca Gala 1\, será ofertado ainda o Lirica Crue Nature\, pioneiro entre os espumantes artesanais que não passam pelo processo de degola (dégorgment) e\, com isso\, mantem as leveduras no interior da garrafa\, conferindo mais pureza e complexidade à bebida da vinícola brasileira Hermann. \nPara acompanhar a degustação\, a casa oferece um cardápio de frios e queijos artesanais assinado pelo cheese Hunter André Deolindo (cobrados à parte). A cada terça\, a Wine Out promove uma degustação especial com a presença de um sommelier e rótulos badalados de vinícolas brasileiras e internacionais. \nServiço: \nData: 3ª feira 25/08 – 19h30 \nApresentação – Sommelier Marcelo Marques \nReservas (21)99628-9463 / @wineout_distribuidora \nEndereço: \nAv. Embaixador Abelardo Bueno\, 3.500/109 \nCondomínio Vision Offices. Em frente ao Parque Olímpico\, na Barra da Tijuca \nMesa individual R$120 \nMesa para dois adultos R$200 \n  \n
URL:https://agendadovinho.com.br/event/degustacao-top-blends-luigi-bosca/
LOCATION:Wine Out – Barra da Tijuca\, Av. Embaixador Abelardo Bueno\, 3500 - Loja 109 - Barra da Tijuca\, Rio de Janeiro\, RJ\, 22775-040\, Brasil
CATEGORIES:Degustação,RJ - Rio de Janeiro
ATTACH;FMTTYPE=image/jpeg:https://agendadovinho.com.br/wp-content/uploads/2020/08/WhatsApp-Image-2020-08-19-at-18.23.40.jpeg
END:VEVENT
END:VCALENDAR