BEGIN:VCALENDAR
VERSION:2.0
PRODID:-//Agenda do Vinho - ECPv4.9.0//NONSGML v1.0//EN
CALSCALE:GREGORIAN
METHOD:PUBLISH
X-WR-CALNAME:Agenda do Vinho
X-ORIGINAL-URL:https://agendadovinho.com.br
X-WR-CALDESC:Eventos para Agenda do Vinho
BEGIN:VEVENT
DTSTART;TZID=America/Sao_Paulo:20200821T193000
DTEND;TZID=America/Sao_Paulo:20200821T220000
DTSTAMP:20260423T032957
CREATED:20200818T151949Z
LAST-MODIFIED:20200818T151949Z
UID:15681-1598038200-1598047200@agendadovinho.com.br
SUMMARY:Encontro Virtual Confraria Amigas do Vinho SP com Vinícola Casa Fontanari
DESCRIPTION:Venha conhecer os Vinhos de Autoria e a história da Vinícola Casa Fontanari\, com o Sommelier Internacional Fernando Lippi\, e a Confraria Amigas do Vinho\, num gostoso bate papo e aprendizado. \nInformações: amigasdovinhosp@yahoo.com.br \n
URL:https://agendadovinho.com.br/event/encontro-virtual-confraria-amigas-do-vinho-sp-com-vinicola-casa-fontanari/
LOCATION:Vídeo conferência
CATEGORIES:Degustação
ATTACH;FMTTYPE=image/png:https://agendadovinho.com.br/wp-content/uploads/2020/08/Encontro-Virtual.png
END:VEVENT
END:VCALENDAR