BEGIN:VCALENDAR
VERSION:2.0
PRODID:-//Agenda do Vinho - ECPv4.9.0//NONSGML v1.0//EN
CALSCALE:GREGORIAN
METHOD:PUBLISH
X-WR-CALNAME:Agenda do Vinho
X-ORIGINAL-URL:https://agendadovinho.com.br
X-WR-CALDESC:Eventos para Agenda do Vinho
BEGIN:VEVENT
DTSTART;TZID=America/Sao_Paulo:20200609T200000
DTEND;TZID=America/Sao_Paulo:20200609T200000
DTSTAMP:20260423T080659
CREATED:20200606T154345Z
LAST-MODIFIED:20200606T154345Z
UID:13982-1591732800-1591732800@agendadovinho.com.br
SUMMARY:Pássaro da Lua Merlot
DESCRIPTION:09/06 – 20h \n
URL:https://agendadovinho.com.br/event/passaro-da-lua-merlot/
LOCATION:Instagram
CATEGORIES:Degustação,Online
ATTACH;FMTTYPE=image/jpeg:https://agendadovinho.com.br/wp-content/uploads/2020/06/crownwines_090620.jpg
END:VEVENT
END:VCALENDAR