BEGIN:VCALENDAR
VERSION:2.0
PRODID:-//Agenda do Vinho - ECPv4.9.0//NONSGML v1.0//EN
CALSCALE:GREGORIAN
METHOD:PUBLISH
X-WR-CALNAME:Agenda do Vinho
X-ORIGINAL-URL:https://agendadovinho.com.br
X-WR-CALDESC:Eventos para Agenda do Vinho
BEGIN:VEVENT
DTSTART;TZID=America/Sao_Paulo:20200423T190000
DTEND;TZID=America/Sao_Paulo:20200423T190000
DTSTAMP:20260425T160021
CREATED:20200416T175819Z
LAST-MODIFIED:20200416T175819Z
UID:12643-1587668400-1587668400@agendadovinho.com.br
SUMMARY:Rieslings Alemães: regiões\, produtores e características
DESCRIPTION:Michael Schütte\, diretor da Vindame Vinhos\, convida para degustação virtual de Rieslings Alemães\, com a participação de Patricia Nigro (@winelover_br). \n
URL:https://agendadovinho.com.br/event/rieslings-alemaes-regioes-produtores-e-caracteristicas/
LOCATION:Instagram
CATEGORIES:Degustação,Online
ATTACH;FMTTYPE=image/jpeg:https://agendadovinho.com.br/wp-content/uploads/2020/04/vindame.vinhos_230420.jpg
END:VEVENT
END:VCALENDAR