BEGIN:VCALENDAR
VERSION:2.0
PRODID:-//Agenda do Vinho - ECPv4.9.0//NONSGML v1.0//EN
CALSCALE:GREGORIAN
METHOD:PUBLISH
X-WR-CALNAME:Agenda do Vinho
X-ORIGINAL-URL:https://agendadovinho.com.br
X-WR-CALDESC:Eventos para Agenda do Vinho
BEGIN:VEVENT
DTSTART;TZID=America/Sao_Paulo:20200331T200000
DTEND;TZID=America/Sao_Paulo:20200331T230000
DTSTAMP:20260425T153322
CREATED:20200212T183021Z
LAST-MODIFIED:20200212T183021Z
UID:11322-1585684800-1585695600@agendadovinho.com.br
SUMMARY:CONFRARIA DE VINHOS BRASILEIROS
DESCRIPTION:Confraria orientada pelo Sommelier Eduardo Gonçalves \nDegustação de Rótulos da Vinícola Don Guerino. Localizada em Alto Feliz – RN \n4 rótulos Brancos: \nSinais Giallo Moscato – Safra 2019 \nSinais Riesling – Safra 2019 \nSinais Sauvignon Blanc – Safra 2019 \nReserva Chardonnay – Safra 2018 \n3 Rótulos Tintos: \nReserva Merlot 2017 \nReserva Tannat 2017 \nReserva Cabernet Sauvignon 2018 \nJantar: \nEntrecôte ao molho de Mostarda com Fritas. \n
URL:https://agendadovinho.com.br/event/confraria-de-vinhos-brasileiros/
LOCATION:Katatas Beira Rio\, Av. Beira-Rio\, 496 - Guandú\, Cachoeiro de Itapemirim\, ES\, 29300-762\, Brasil
CATEGORIES:Degustação,ES - Demais cidades
ATTACH;FMTTYPE=image/png:https://agendadovinho.com.br/wp-content/uploads/2020/02/vinhos-brasileiros_310320.png
END:VEVENT
END:VCALENDAR