BEGIN:VCALENDAR
VERSION:2.0
PRODID:-//Agenda do Vinho - ECPv4.9.0//NONSGML v1.0//EN
CALSCALE:GREGORIAN
METHOD:PUBLISH
X-WR-CALNAME:Agenda do Vinho
X-ORIGINAL-URL:https://agendadovinho.com.br
X-WR-CALDESC:Eventos para Agenda do Vinho
BEGIN:VEVENT
DTSTART;TZID=America/Sao_Paulo:20200326T183000
DTEND;TZID=America/Sao_Paulo:20200326T220000
DTSTAMP:20260425T190415
CREATED:20200309T150844Z
LAST-MODIFIED:20200309T150844Z
UID:11943-1585247400-1585260000@agendadovinho.com.br
SUMMARY:CHAMPAGNE DE VIGNERONS WINE TASTING
DESCRIPTION:\nWine Tasting: Champagne de Vignerons\n\n\nConheça os diferentes “terroirs”dessa região tão complexa e única do mundo dos vinhos. Uma verdadeira viagem por todas os micro-climas e estilos de vinhos.\n\n\n \n\n\nVinhos degustados:\n\n\n \n\n\n* Espumante de boas-vindas\n\n\n* 7 Crus NV / Agrapart\n\n\n* Bouzy Grand Cru Reserve NV / Barnaut\n\n\n* Rosé Ambonnay Grand Cru / Eric Rodez\n\n\n* L’Atavique Verzy Grand Cru 2013 / Mouzon-Leroux \n\n\n* Cuvée Éloquence 2014 Blanc de Blanc Côte-de-Bars / Marie-Courtin \n\n\n \n\n\nO quê esta incluso:\n\n\n– Degustação às cegas de 6 rótulos.\n\n\n– Tabela de degustação técnica.\n\n\n– Material em PDF.\n\n\n– 12 vagas apenas.\n\n\n– Mesa de frios e pães. \n\n\n \n\n\nWalfran Lima\nCel:71996177446\n\n
URL:https://agendadovinho.com.br/event/champagne-de-vignerons-wine-tasting/
LOCATION:Enoteca Decanter Salvador\, R. Alexandre Herculano\, 18 - 02 - Pituba\, Salvador\, BA\, 41810-395\, Brasil
CATEGORIES:BA - Salvador,Degustação
ATTACH;FMTTYPE=image/png:https://agendadovinho.com.br/wp-content/uploads/2020/03/champagne_260320.png
END:VEVENT
BEGIN:VEVENT
DTSTART;TZID=America/Sao_Paulo:20200326T193000
DTEND;TZID=America/Sao_Paulo:20200326T220000
DTSTAMP:20260425T190415
CREATED:20200302T160147Z
LAST-MODIFIED:20200302T160147Z
UID:11625-1585251000-1585260000@agendadovinho.com.br
SUMMARY:Wine Sensation
DESCRIPTION:Uma Aula incrível e descontraída\, aprendendo tudo sobre vinhos através das sensações. \nA História do vinho \nHarmonização e degustação  com antepastos especiais \nAprenda a escolher o vinho para cada ocasião especial \nTécnicas de armazenamento e como servir com estilo e elegância \n
URL:https://agendadovinho.com.br/event/wine-sensation/
LOCATION:Dolce&Gusti Cozinha\, R. Pamplona\, 1082 - Jardim Paulista\, São Paulo\, SP\, 01405-001\, Brasil
CATEGORIES:Degustação,SP - São Paulo
ATTACH;FMTTYPE=image/jpeg:https://agendadovinho.com.br/wp-content/uploads/2020/03/Viva-Vinho.jpg
END:VEVENT
BEGIN:VEVENT
DTSTART;TZID=America/Sao_Paulo:20200326T200000
DTEND;TZID=America/Sao_Paulo:20200326T200000
DTSTAMP:20260425T190415
CREATED:20200302T165205Z
LAST-MODIFIED:20200302T165205Z
UID:11633-1585252800-1585252800@agendadovinho.com.br
SUMMARY:Vinhos do Novo Mundo
DESCRIPTION:Hoje em dia\, quando falamos de grandes vinhos\, não deixamos de citar rótulos de países como Chile\, Argentina\, Estados Unidos\, Nova Zelândia\, porém hoje valorizamos muito os vinhos do Novo Mundo que possuem características marcantes\, seus exemplares são acessíveis repleto de aromas frutados e notas de carvalho suave ao paladar\, muitas vezes encorpados e boa parte deles são produzidos em regiões quentes resultando em menor acidez\, vale destacar as cores vibrantes dos tintos. Em outras serão mais ácidos e o sabor é mais perceptível\, quando originados em regiões mais frias ou por uvas que ressaltam essas características. \n  \nEsta crescente está aliada a alguns fatores como o uso da tecnologia avançada\, a facilidade e agilidade de adaptação ao mercado e claro o “terroir”\, que ainda é o fator primordial para termos vinhos de qualidade. \n  \nAbra sua mente para um Novo Mundo de vinhos e se delicie com esta diversidade. \n  \nData: 26.03 | Vinhos do Novo Mundo \nHorário: 20h \nAtração: Música ao vivo \n
URL:https://agendadovinho.com.br/event/vinhos-do-novo-mundo/
LOCATION:Grand Hyatt Sao Paulo\, Av. das Nações Unidas\, 13301 - Itaim Bibi\, São Paulo - SP\, 04578-000\, São Paulo\, SP\, 04578-000\, Brasil
CATEGORIES:Degustação,SP - São Paulo
ATTACH;FMTTYPE=image/jpeg:https://agendadovinho.com.br/wp-content/uploads/2020/03/hyatt_260320.jpg
END:VEVENT
BEGIN:VEVENT
DTSTART;TZID=America/Sao_Paulo:20200326T200000
DTEND;TZID=America/Sao_Paulo:20200326T220000
DTSTAMP:20260425T190415
CREATED:20200309T105439Z
LAST-MODIFIED:20200309T105439Z
UID:11922-1585252800-1585260000@agendadovinho.com.br
SUMMARY:Degustação Premium com Pio Cesare no RJ
DESCRIPTION:Degustação Premium \nSeleção do Sommelier José Paulo Fernandes \nData 26/03/2020 – 20h \nSala de Apresentação Premium da Wine Out \nAv. Embaixador Abelardo Bueno 3500\, Barra da Tijuca- RJ  \nValor 1º lote promocional R$ 130 \nVAGAS LIMITADAS \nLírica Crua \nLas Moras Viognier \nLas Moras Barrel Select Malbec \nLa Linda Private \nEl Principal Calicanto  \nAlasia Nebbiolo Langhe Araldica \nPio Cesare Il Nebbio Langhe  \nIncluso: \nDegustação de 50ml de cada rótulo \nÁgua Mineral \nPetiscos para acompanhar  \nReservas somente pelo site: \nwww.wineout.com.br/eventos \n
URL:https://agendadovinho.com.br/event/degustacao-premium-com-pio-cesare-no-rj/
LOCATION:Wine Out – Barra da Tijuca\, Av. Embaixador Abelardo Bueno\, 3500 - Loja 109 - Barra da Tijuca\, Rio de Janeiro\, RJ\, 22775-040\, Brasil
CATEGORIES:Degustação,RJ - Rio de Janeiro
ATTACH;FMTTYPE=image/jpeg:https://agendadovinho.com.br/wp-content/uploads/2020/03/F165191F-0FBB-4FF9-8EB0-B5C1373D6F4E.jpeg
END:VEVENT
BEGIN:VEVENT
DTSTART;TZID=America/Sao_Paulo:20200326T200000
DTEND;TZID=America/Sao_Paulo:20200326T220000
DTSTAMP:20260425T190415
CREATED:20200309T105609Z
LAST-MODIFIED:20200309T105609Z
UID:11924-1585252800-1585260000@agendadovinho.com.br
SUMMARY:Degustação - Vinhos do Profeta
DESCRIPTION:Hernanes\, jogador de futebol que hoje defende o São Paulo\, mas que já atuou na seleção Brasileira e em vários times da Itália é o produtor dos vinhos e estará presente para apresenta-lo. Aos 25 anos foi transferido para o futebol italiano e\, até então\, nunca havia provado vinho. E surpreendeu-se com o fato de vinho ser servido na concentração aos jogadores no clube em que atuava. E quando ia a restaurantes\, ou para casa de amigos\, Hernanes\, que até então só bebia sucos em refeições\, surpreendeu-se pelo fato de só haver duas opções disponíveis: água e vinho. Residindo no Piemonte\, interessou-se pelo assunto\, visitou produtores e\, quando procurava uma casa de campo na região\, encontrou uma propriedade com 4 hectares de vinhedos já plantados. Adquiriu-a e\, cada vez mais apaixonado pelo assunto\, passou a produzir vinhos com sua marca: O Ca’Del Profeta\, ou a “casa de profeta”\, aproveitando o apelido que o acompanha nos gramados. \nConfira os vinhos que serão servidos: \nCA´DEL PROFETA – Brachetto Momentum 2017 – R$ 140\,00 \nCA´DEL PROFETA – Grignolino d´Asti Ce La Vite 2016 – R$ 190\,00 \nCA´DEL PROFETA – Grignolino d´Asti Saudade 2016 – R$ 122\,00 \nCA´DEL PROFETA – Barbera d´Asti Efraim 2016 – R$ 260\,00 \nCA´DEL PROFETA – Barbera d´Asti 2017 – R$ 137\,00 \nValor da inscrição: R$ 80\,00 para associados e R$ 100\,00 para quem nunca participou de nossos eventos e se tornará associado a partir do próximo evento. \n
URL:https://agendadovinho.com.br/event/degustacao-vinhos-do-profeta/
LOCATION:Royal Palm Tower Carlos Gomes\, R. Boaventura do Amaral\, 1274 - Centro\, Campinas\, SP\, 13015-192\, Brasil
CATEGORIES:Degustação,SP - Demais cidades
ATTACH;FMTTYPE=image/png:https://agendadovinho.com.br/wp-content/uploads/2020/03/OverProject.png
END:VEVENT
END:VCALENDAR