BEGIN:VCALENDAR
VERSION:2.0
PRODID:-//Agenda do Vinho - ECPv4.9.0//NONSGML v1.0//EN
CALSCALE:GREGORIAN
METHOD:PUBLISH
X-WR-CALNAME:Agenda do Vinho
X-ORIGINAL-URL:https://agendadovinho.com.br
X-WR-CALDESC:Eventos para Agenda do Vinho
BEGIN:VEVENT
DTSTART;TZID=America/Sao_Paulo:20200320T190000
DTEND;TZID=America/Sao_Paulo:20200320T230000
DTSTAMP:20260425T170934
CREATED:20200313T165212Z
LAST-MODIFIED:20200313T165212Z
UID:12155-1584730800-1584745200@agendadovinho.com.br
SUMMARY:Jour Fromage et Vin
DESCRIPTION:Nas sextas-feiras dos meses de Março e Abril\, venha desfrutar uma porção de queijos para duas pessoas: três tipos de queijos de cabra artesanal  com baguette francesa rústica (fermentação lenta) acompanhados de uma garrafa de vinho Italiano\, branco\, tinto ou rosé. \nSequência de Vinhos a serem degustados: \nGazzerosse. Grillo. 2018. Sicilia. \nCassara. Cannitu. Nero D’Avola Rosato. 2018.Sicilia. \nGazzerosse. Nero D’Avola. 2018. Sicilia. \n
URL:https://agendadovinho.com.br/event/jour-fromage-et-vin-2/
LOCATION:Cave Suíça\, Rua João Ramalho\, 1392\, São Paulo\, SP\, Brasil
CATEGORIES:Degustação,SP - São Paulo
ATTACH;FMTTYPE=image/jpeg:https://agendadovinho.com.br/wp-content/uploads/2020/03/jour-fromage-et-vin_130320.jpg
END:VEVENT
BEGIN:VEVENT
DTSTART;TZID=America/Sao_Paulo:20200320T193000
DTEND;TZID=America/Sao_Paulo:20200320T213000
DTSTAMP:20260425T170934
CREATED:20200228T191616Z
LAST-MODIFIED:20200228T191616Z
UID:11520-1584732600-1584739800@agendadovinho.com.br
SUMMARY:Harmonização de Queijos e Vinhos
DESCRIPTION:O VALOR DE INSCRIÇÃO NAS AULAS É DE R$60\,00\, SENDO REVERTIDO R$30\,00 EM CARTÃO PRESENTE PARA COMPRAS NAS LOJAS\, SITE E APP. \nSobre o curso: \nVinhos da vinícola boutique Lídio Carraro com presença do fundador\, harmonizados com queijos Vigor. \n
URL:https://agendadovinho.com.br/event/harmonizacao-de-queijos-e-vinhos-2/
LOCATION:Supermercado Zona Sul Santa Mônica\, Av. das Américas\, 8888 - Barra da Tijuca\, Rio de Janeiro\, RJ\, 22793-082\, Brasil
CATEGORIES:Degustação,RJ - Rio de Janeiro
ATTACH;FMTTYPE=image/jpeg:https://agendadovinho.com.br/wp-content/uploads/2020/02/queijos-e-vinhos_200320.jpg
END:VEVENT
END:VCALENDAR