BEGIN:VCALENDAR
VERSION:2.0
PRODID:-//Agenda do Vinho - ECPv4.9.0//NONSGML v1.0//EN
CALSCALE:GREGORIAN
METHOD:PUBLISH
X-WR-CALNAME:Agenda do Vinho
X-ORIGINAL-URL:https://agendadovinho.com.br
X-WR-CALDESC:Eventos para Agenda do Vinho
BEGIN:VEVENT
DTSTART;TZID=America/Sao_Paulo:20200312T190000
DTEND;TZID=America/Sao_Paulo:20200312T213000
DTSTAMP:20260425T190252
CREATED:20200228T191252Z
LAST-MODIFIED:20200228T191252Z
UID:11517-1584039600-1584048600@agendadovinho.com.br
SUMMARY:DEGUSTAÇÃO TEMÁTICA: CHILE & ARGENTINA
DESCRIPTION:Degustação Orientada de 6 vinhos acompanhado de 6 comidinhas para harmonizar. \nOrientação sobre o estilo de vinho\, regiões e uvas degustadas. \n
URL:https://agendadovinho.com.br/event/degustacao-tematica-chile-argentina/
LOCATION:Grand Cru Cuiabá\, Av. Miguel Sutil\, 9300 - L52 - Duque de Caxias\, Cuiabá - MT\,\, MT\, 78020-160\, Brasil
CATEGORIES:Degustação,MT - Cuiabá
ATTACH;FMTTYPE=image/png:https://agendadovinho.com.br/wp-content/uploads/2020/02/degustacao-temática_120320.png
END:VEVENT
BEGIN:VEVENT
DTSTART;TZID=America/Sao_Paulo:20200312T190000
DTEND;TZID=America/Sao_Paulo:20200312T190000
DTSTAMP:20260425T190252
CREATED:20200304T193139Z
LAST-MODIFIED:20200304T193139Z
UID:11782-1584039600-1584039600@agendadovinho.com.br
SUMMARY:Degustação Undurraga Aliwen
DESCRIPTION:Para maiores informações entre em contato pelo WhatsApp 📲 (21) 99500-5776. \n
URL:https://agendadovinho.com.br/event/degustacao-undurraga-aliwen/
LOCATION:Empório Farinha Pura\, R. Voluntários da Pátria\, 446 - Botafogo\, Rio de Janeiro\, RJ\, 22270-010\, Brasil
CATEGORIES:Degustação,RJ - Rio de Janeiro
ATTACH;FMTTYPE=image/jpeg:https://agendadovinho.com.br/wp-content/uploads/2020/03/degustação_120320.jpg
END:VEVENT
BEGIN:VEVENT
DTSTART;TZID=America/Sao_Paulo:20200312T190000
DTEND;TZID=America/Sao_Paulo:20200312T230000
DTSTAMP:20260425T190252
CREATED:20200309T150806Z
LAST-MODIFIED:20200309T150806Z
UID:11942-1584039600-1584054000@agendadovinho.com.br
SUMMARY:Jour de Raclette
DESCRIPTION:Durante todas as quartas e quintas-feiras do mês de Março\, a Raclette será o prato do dia. \nPor R$45\,00 você poderá saborear esse prato suíço juntamente com uma taça de vinho branco ou espumante \n
URL:https://agendadovinho.com.br/event/jour-de-raclette-7/
LOCATION:Cave Suíça\, Rua João Ramalho\, 1392\, São Paulo\, SP\, Brasil
CATEGORIES:Degustação,SP - São Paulo
ATTACH;FMTTYPE=image/jpeg:https://agendadovinho.com.br/wp-content/uploads/2020/03/jour-de-raclette_110320.jpg
END:VEVENT
BEGIN:VEVENT
DTSTART;TZID=America/Sao_Paulo:20200312T190000
DTEND;TZID=America/Sao_Paulo:20200312T213000
DTSTAMP:20260425T190252
CREATED:20200311T200502Z
LAST-MODIFIED:20200311T200502Z
UID:12036-1584039600-1584048600@agendadovinho.com.br
SUMMARY:OPEN WINE
DESCRIPTION:Te convidamos a degustar conosco vinhos especialmente selecionados para este dia! \nEm um ambiente leve e descontraído\, te conectamos ao mundo do vinho\, com conhecimento\, qualidade e muito amor! \nVenha viver conosco essa experiência! \n#HappyWineHour \n#EmporioWelt \n
URL:https://agendadovinho.com.br/event/open-wine-2/
LOCATION:Empório Welt\, R. Gen. Osório\, 880 - Loja 01 - Velha\, Blumenau\, SC\, 89041-002\, Brasil
CATEGORIES:Degustação,SC - Demais cidades
ATTACH;FMTTYPE=image/png:https://agendadovinho.com.br/wp-content/uploads/2020/03/open-wine_120320.png
END:VEVENT
BEGIN:VEVENT
DTSTART;TZID=America/Sao_Paulo:20200312T200000
DTEND;TZID=America/Sao_Paulo:20200312T223000
DTSTAMP:20260425T190252
CREATED:20200214T150616Z
LAST-MODIFIED:20200214T150616Z
UID:11387-1584043200-1584052200@agendadovinho.com.br
SUMMARY:Degustação Orientada de Vinhos Argentinos
DESCRIPTION:Estamos retornando com as nossas degustações orientadas e vamos iniciar o ano mergulhando no universo dos vinhos Argentinos. Vamos degustar vinhos de diferentes regiões e de diferentes castas e aprender que os vinho Argentino é muito mais que a uva Malbec.\nVenha passar momentos agradáveis e descontraídos conosco aqui no La Bodeguita. Todos os nossos eventos tem sempre acompanhamentos para harmonizar com os vinhos. Além é claro\,  de muita informação e boa música.\n
URL:https://agendadovinho.com.br/event/degustacao-orientada-de-vinhos-argentinos/
LOCATION:La Bodeguita Experience\, Av. São Miguel\, 1151 - Centro\, Dois Irmãos - RS\, Dois Irmãos\, RS\, 93950-000\, Brasil
CATEGORIES:Degustação,SP - Demais cidades
ATTACH;FMTTYPE=image/jpeg:https://agendadovinho.com.br/wp-content/uploads/2020/02/vinhos-argentinos_120320.jpg
END:VEVENT
BEGIN:VEVENT
DTSTART;TZID=America/Sao_Paulo:20200312T200000
DTEND;TZID=America/Sao_Paulo:20200312T200000
DTSTAMP:20260425T190252
CREATED:20200304T193421Z
LAST-MODIFIED:20200304T193421Z
UID:11784-1584043200-1584043200@agendadovinho.com.br
SUMMARY:Degustação especial Luiz Argenta
DESCRIPTION:Degustação especial Vinícola Luiz Argenta!\nSerão 8 super rótulos da Vinícola LA\, harmonizados com as entradinhas\, antepastos e prato quente. A degustação será guiada pelo nosso Sommelier Mateus Benatti\, passando um panorama geral da história da vinícola\, vinificação\, características das uvas e vinhos. Como sempre\, nossos eventos são regados a muito vinho\, conteúdo\, troca de experiências e descontração. Venha participar com a gente. Vagas super limitadas! \n
URL:https://agendadovinho.com.br/event/degustacao-especial-luiz-argenta/
LOCATION:Encontre Vinhos\, R. Purpurina\, 254 - Sumarezinho\, São Paulo\, SP\, 05435-030\, Brasil
CATEGORIES:Degustação,SP - São Paulo
ATTACH;FMTTYPE=image/jpeg:https://agendadovinho.com.br/wp-content/uploads/2020/03/degustação-especial_120320.jpg
END:VEVENT
END:VCALENDAR