BEGIN:VCALENDAR
VERSION:2.0
PRODID:-//Agenda do Vinho - ECPv4.9.0//NONSGML v1.0//EN
CALSCALE:GREGORIAN
METHOD:PUBLISH
X-WR-CALNAME:Agenda do Vinho
X-ORIGINAL-URL:https://agendadovinho.com.br
X-WR-CALDESC:Eventos para Agenda do Vinho
BEGIN:VEVENT
DTSTART;TZID=America/Sao_Paulo:20200311T170000
DTEND;TZID=America/Sao_Paulo:20200311T230000
DTSTAMP:20260425T190408
CREATED:20200306T212819Z
LAST-MODIFIED:20200306T212819Z
UID:11877-1583946000-1583967600@agendadovinho.com.br
SUMMARY:Jour de Raclette
DESCRIPTION:Durante todas as quartas e quintas-feiras do mês de Março\, a Raclette será o prato do dia. \nPor R$45\,00 você poderá saborear esse prato suíço juntamente com uma taça de vinho branco ou espumante \n
URL:https://agendadovinho.com.br/event/jour-de-raclette-6/
LOCATION:Cave Suíça\, Rua João Ramalho\, 1392\, São Paulo\, SP\, Brasil
CATEGORIES:Degustação,SP - São Paulo
ATTACH;FMTTYPE=image/jpeg:https://agendadovinho.com.br/wp-content/uploads/2020/03/jour-de-raclette_110320.jpg
END:VEVENT
BEGIN:VEVENT
DTSTART;TZID=America/Sao_Paulo:20200311T170000
DTEND;TZID=America/Sao_Paulo:20200311T200000
DTSTAMP:20260425T190408
CREATED:20200310T163907Z
LAST-MODIFIED:20200310T163907Z
UID:11998-1583946000-1583956800@agendadovinho.com.br
SUMMARY:Noite Latina & Open de Vinho no Diô
DESCRIPTION:Open de Vinho & Discotecagem ritmos Latinos \n\n\n\nMeu coração faz chica chica boom chic com o Open de Vinho do Diô Wine Bar.\nToda quarta\, de 17h às 20h\, tem sempre um vinho branco\, um tinto e um rosé para você degustar à vontade por apenas R$ 39\,90 por pessoa.\nE não é só isso. Toda quarta também tem uma superdiscotecagem pra você curtir nossos vinhos com a melhor trilha sonora e nesta quarta (11) tem uma noite latina caliente com o DJ @thiagohrborges. \nJá estamos esperando por você.\nOpen de Vinho – 17h às 20h.\nMúsica Latina com DJ @thiagohrborges – 19h às 21h.\n\n\n\n
URL:https://agendadovinho.com.br/event/noite-latina-open-de-vinho-no-dio/
LOCATION:Diô Wine Bar\, Av.Marechal Deodoro\, 686 Vila Urbana - container 14 - Centro\, Curitiba\, PR\, 80010-010\, Brasil
CATEGORIES:Degustação,PR - Curitiba
ATTACH;FMTTYPE=image/jpeg:https://agendadovinho.com.br/wp-content/uploads/2020/03/noite-latina_110320.jpg
END:VEVENT
BEGIN:VEVENT
DTSTART;TZID=America/Sao_Paulo:20200311T190000
DTEND;TZID=America/Sao_Paulo:20200311T203000
DTSTAMP:20260425T190408
CREATED:20200305T153302Z
LAST-MODIFIED:20200305T153302Z
UID:11833-1583953200-1583958600@agendadovinho.com.br
SUMMARY:Harmonização e Degustação de Vinhos - Mês da Mulher na Cadore Comida Descomplicada
DESCRIPTION:Você sabe como harmonizar vinhos com pratos de comida? Combinar alimentos e bebidas é uma prática que cada vez mais está em pauta nos encontros entre amigos e familiares. Descobrir sabores e aromas a partir da união desses dois componentes é muito agradável e pode se tornar divertido. Isso contribui para a evidenciação dos pontos fortes de cada um dos elementos\, tornando a experiência gastronômica muito mais interessante. \nNo dia 11/3\, a partir das 19h\, o sommelier Rodrigo Feliz\, dará uma aula sobre 6 rótulos e quais as suas possíveis combinações! \nNo mês da mulher\, o presente é para todas vocês. Venha aprender\, degustar e se divertir muito nessa noite especial! \nInscrição gratuita. Vagas limitadas ao número de ingressos. Garanta a sua!\nInformações adicionais: (41) 3356-3027 ou contato@cadorecd.com.br \nPatrocínio: Bar Boulevard (Avenida José Gulin\, 105\, Bacacheri). \n
URL:https://agendadovinho.com.br/event/harmonizacao-e-degustacao-de-vinhos-mes-da-mulher-na-cadore-comida-descomplicada/
LOCATION:Ca’dore – Comida Descomplicada\, Av. José Gulin\, 105 - Bacacheri\, Curitiba\, PR\, 82600-360\, Brasil
CATEGORIES:Degustação,PR - Curitiba
ATTACH;FMTTYPE=image/jpeg:https://agendadovinho.com.br/wp-content/uploads/2020/03/harmonizacao-e-degustacao_110320.jpg
END:VEVENT
BEGIN:VEVENT
DTSTART;TZID=America/Sao_Paulo:20200311T193000
DTEND;TZID=America/Sao_Paulo:20200311T193000
DTSTAMP:20260425T190408
CREATED:20200310T165103Z
LAST-MODIFIED:20200310T165103Z
UID:12017-1583955000-1583955000@agendadovinho.com.br
SUMMARY:Degustação harmonizada - Mês das mulheres
DESCRIPTION:Reserve sua participação com antecedência pelo telefone 11 3037-7001\, WhatsApp 11 96450-1461 ou pelo e-mail winebar@mistral.com.br. \n
URL:https://agendadovinho.com.br/event/degustacao-harmonizada-mes-das-mulheres/
LOCATION:Wine Bar Mistral – Shopping Iguatemi\, Av. Brg. Faria Lima\, 2232 - Jardim Paulistano\, São Paulo\, SP\, 01457-040\, Brasil
CATEGORIES:Degustação,SP - São Paulo
ATTACH;FMTTYPE=image/jpeg:https://agendadovinho.com.br/wp-content/uploads/2020/03/degustação-harmonizada_110320.jpg
END:VEVENT
END:VCALENDAR