BEGIN:VCALENDAR
VERSION:2.0
PRODID:-//Agenda do Vinho - ECPv4.9.0//NONSGML v1.0//EN
CALSCALE:GREGORIAN
METHOD:PUBLISH
X-WR-CALNAME:Agenda do Vinho
X-ORIGINAL-URL:https://agendadovinho.com.br
X-WR-CALDESC:Eventos para Agenda do Vinho
BEGIN:VEVENT
DTSTART;TZID=America/Sao_Paulo:20200308T113000
DTEND;TZID=America/Sao_Paulo:20200308T220000
DTSTAMP:20260425T170944
CREATED:20200203T185534Z
LAST-MODIFIED:20200303T170904Z
UID:11086-1583667000-1583704800@agendadovinho.com.br
SUMMARY:Sparkling Festival
DESCRIPTION:Use o código AGENDADOVINHO e tenha desconto!\nCom cerca de 25 Vinícolas e importadores os ingressos estarão sendo vendido no site https://www.ingressocerto.com/sparkling-festival. \nO ingresso para a área restrita dá direito a uma taça de cristal oficial do evento e uma pulseira que garante 3 horas de degustação. \nAtrações confirmadas: Talks com especialistas\, feira criativa\, feira gastronômica\, show de Jazz e Blues\, Dj e Programação especial do Dia das Mulheres. \n
URL:https://agendadovinho.com.br/event/sparkling-festival-2/
LOCATION:Cinemateca Brasileira\, Largo Sen. Raul Cardoso\, 207 - Vila Clementino\, São Paulo\, SP\, 04021-070\, Brasil
CATEGORIES:Degustação,SP - São Paulo
ATTACH;FMTTYPE=image/png:https://agendadovinho.com.br/wp-content/uploads/2020/02/sparkling_070320.png
END:VEVENT
END:VCALENDAR