BEGIN:VCALENDAR
VERSION:2.0
PRODID:-//Agenda do Vinho - ECPv4.9.0//NONSGML v1.0//EN
CALSCALE:GREGORIAN
METHOD:PUBLISH
X-WR-CALNAME:Agenda do Vinho
X-ORIGINAL-URL:https://agendadovinho.com.br
X-WR-CALDESC:Eventos para Agenda do Vinho
BEGIN:VEVENT
DTSTART;TZID=America/Sao_Paulo:20200305T190000
DTEND;TZID=America/Sao_Paulo:20200305T190000
DTSTAMP:20260425T170924
CREATED:20200218T152952Z
LAST-MODIFIED:20200218T152952Z
UID:11438-1583434800-1583434800@agendadovinho.com.br
SUMMARY:Harmonização de vinho com charutos - somente para mulheres
DESCRIPTION:Venha participar da PRIMEIRA HARMONIZAÇÃO de VINHOS E CHARUTOS \, em comemoração ao DIA INTERNACIONAL DA MULHER (somente para mulheres). No dia 5 de março à partir das 19hs na Rua João Cachoeira\, 1198\, Itaim Bibi\, São Paulo. O valor da degustação é de R$ 165\,00 por pessoa (vagas limitadas)\, inclui um tipo de charuto\, dois vinhos tintos\, um espumante\, dois vinhos do porto\, duas águas por pessoa e tabua de frios.\nSommelièr convidada: Vanda Meneguci – Italia Mais\nMaster Cigars Sommelièr- Silvana Bencomo\nEmail: eventos@lamansawine.com.br \nhttps://www.instagram.com/lamansawine/ \n
URL:https://agendadovinho.com.br/event/harmonizacao-de-vinho-com-charutos-somente-para-mulheres/
LOCATION:La Mansa Wine\, R. João Cachoeira\, 1198 - Vila Nova Conceição\, São Paulo\, SP\, 04535-004\, Brasil
CATEGORIES:Degustação,SP - São Paulo
ATTACH;FMTTYPE=image/jpeg:https://agendadovinho.com.br/wp-content/uploads/2020/02/harmonização-de-vinho-com-charutos_050320.jpg
END:VEVENT
BEGIN:VEVENT
DTSTART;TZID=America/Sao_Paulo:20200305T190000
DTEND;TZID=America/Sao_Paulo:20200305T213000
DTSTAMP:20260425T170924
CREATED:20200303T162903Z
LAST-MODIFIED:20200303T162903Z
UID:11700-1583434800-1583443800@agendadovinho.com.br
SUMMARY:OPEN WINE
DESCRIPTION:Te convidamos a degustar conosco vinhos especialmente selecionados para este dia! \nEm um ambiente leve e descontraído\, te conectamos ao mundo do vinho\, com conhecimento\, qualidade e muito amor! \nVenha viver conosco essa experiência! \n#HappyWineHour \n#EmporioWelt \n
URL:https://agendadovinho.com.br/event/open-wine/
LOCATION:Empório Welt\, R. Gen. Osório\, 880 - Loja 01 - Velha\, Blumenau\, SC\, 89041-002\, Brasil
CATEGORIES:Degustação,SC - Demais cidades
ATTACH;FMTTYPE=image/png:https://agendadovinho.com.br/wp-content/uploads/2020/03/open-wine_050320.png
END:VEVENT
BEGIN:VEVENT
DTSTART;TZID=America/Sao_Paulo:20200305T200000
DTEND;TZID=America/Sao_Paulo:20200305T200000
DTSTAMP:20260425T170924
CREATED:20200212T173307Z
LAST-MODIFIED:20200212T173307Z
UID:11310-1583438400-1583438400@agendadovinho.com.br
SUMMARY:Degustação - Dia das Mulheres
DESCRIPTION:Na semana em que é celebrado o dia das mulheres\, o tema da degustação na ABS-Campinas será o protagonismo delas no mundo do vinho. \nO século atual é felizmente marcado pelo avanço do protagonismo feminino em todas as áreas da sociedade. E no mundo do vinho isso não é diferente. Prova disso é que as mulheres representam 49% dos alunos matriculados nas duas últimas turmas do Curso de Formação de Sommelier Profissional na ABS-Campinas. \n  \nNa degustação do dia 05/03 iremos conhecer a trajetória de uma profissional do vinho da região de Campinas que foi escolhida como Embaixadora do Vinho Chileno no Brasil\, a Sommelier Marina Bufarah. \n  \nEm 2019\, o Wines of Chile\, uma entidade formada pelas principais vinícolas daquele país\, organizou uma série de palestras em todo mundo para divulgar o vinho chileno e certificar Embaixadores em cada um dos principais mercados. Foram 16 Masterclasses oferecidas em 8 cidades do Brasil\, conduzidas por Arthur Azevedo\, Vice Presidente da ABS-SP. A ABS-Campinas foi escolhida para sediar o evento em nossa região\, que selecionou 6 profissionais para uma visita técnica ao Chile. Marina viajou ao Chile como uma das ganhadoras do Programa Ambassador (Embaixador?) da Wines of Chile Academy\, juntamente com outros 5 profissionais brasileiros da indústria do vinho. Após uma semana visitando vinícolas\, sob patrocínio e tutela da WoC\, ela e outro profissional do Rio de Janeiro foram eleitos os vencedores do concurso. \n  \nNesse evento\, Marina irá contar sua trajetória no mundo do vinho e sua experiência como participante do programa promovido pela Wines of Chile Academy. E apresentará os seguintes vinhos para degustação do público: \n  \n• Cono Sur 20 Barrel Limited Edition Syrah 2017 – World Wine\, R$ 242\,00\n• Casa Silva Gran Terroir de Los Andes Carménère 2017 – Vinhos do Mundo\, R$ 164\n• Errázuriz Max Reserva Cabernet Sauvignon 2016 – Grand Cru\, R$ 139\,90\n• Santa Carolina Reserva Sauvignon Blanc\, 2018 – Casa Flora\, R$ 60\,00\n• Château Los Boldso Gran Réserve Chardonnay 2018 – Zahil\, ainda não vendido no Brasil \n  \nDia – 05/03/2020\, quinta-feira\nHorário – 20h\nLocal – ABS Campinas\, Rua Boaventura do Amaral\, 1274\, Royal Palm Tower\, Centro\, Campinas SP 13015-192 \n
URL:https://agendadovinho.com.br/event/degustacao-dia-das-mulheres/
LOCATION:ABS Campinas\, R. Boaventura do Amaral\, 1274 - Centro\, Campinas\, SP\, Brasil
CATEGORIES:Degustação,SP - Demais cidades
ATTACH;FMTTYPE=image/png:https://agendadovinho.com.br/wp-content/uploads/2020/02/Captura-de-Tela-2020-02-12-às-11.39.48.png
END:VEVENT
END:VCALENDAR