BEGIN:VCALENDAR
VERSION:2.0
PRODID:-//Agenda do Vinho - ECPv4.9.0//NONSGML v1.0//EN
CALSCALE:GREGORIAN
METHOD:PUBLISH
X-WR-CALNAME:Agenda do Vinho
X-ORIGINAL-URL:https://agendadovinho.com.br
X-WR-CALDESC:Eventos para Agenda do Vinho
BEGIN:VEVENT
DTSTART;TZID=America/Sao_Paulo:20200227T193000
DTEND;TZID=America/Sao_Paulo:20200227T223000
DTSTAMP:20260425T170854
CREATED:20191125T142455Z
LAST-MODIFIED:20191125T142455Z
UID:9921-1582831800-1582842600@agendadovinho.com.br
SUMMARY:Jour de Raclette
DESCRIPTION:Jour de raclette \nDurante todas as quintas-feiras do mês de Fevereiro\, a Raclette será o prato do dia. \nPor R$45\,00 você poderá saborear esse prato suíço juntamente com uma taça de vinho branco ou espumante \nFaça já a sua reserva!! \nCave Suíça \nRua João Ramalho\,1392- Perdizes \nMais informações: 96625-5427 \n
URL:https://agendadovinho.com.br/event/jour-de-raclette-5/
LOCATION:Cave Suíça\, Rua João Ramalho\, 1392\, São Paulo\, SP\, Brasil
CATEGORIES:Degustação,SP - São Paulo
ATTACH;FMTTYPE=image/jpeg:https://agendadovinho.com.br/wp-content/uploads/2019/11/jour-de-raclette_060220.jpg
END:VEVENT
BEGIN:VEVENT
DTSTART;TZID=America/Sao_Paulo:20200227T200000
DTEND;TZID=America/Sao_Paulo:20200227T200000
DTSTAMP:20260425T170854
CREATED:20200218T152741Z
LAST-MODIFIED:20200218T152741Z
UID:11437-1582833600-1582833600@agendadovinho.com.br
SUMMARY:Degustação Orientada - Vinhos Gregos
DESCRIPTION:Degustação Orientada: Vinhos Gregos!⠀\n⠀\nNa Grécia\, a milenar cultura do vinho é comprovada por evidências com mais de 4 mil anos. O país é caracterizado por uvas que só encontramos ali e pela diversidade de seus terroirs.⠀\nOs vinhedos gregos se caracterizam por serem pequenos e pelo cultivo manual\, que muitas vezes coexiste com outras culturas. Daí também a atenção à sustentabilidade e uma tendência crescente ao cultivo orgânico.⠀\n⠀\n🍷Vinhos da Degustação:⠀\n⠀\nOkeanos S Blanc/Moscato⠀\nOkeanos Chardonnay/Assyrtiko⠀\nDomaine Costa Lazaridi Malagouzia⠀\nThalassa Cabernet Sauvignon⠀\nCosta Lazaridi Syrah⠀\nAmethystos Cava⠀ \nValores: até dia 21/02 – R$100\,00\, após R$115 00 \n
URL:https://agendadovinho.com.br/event/degustacao-orientada-vinhos-gregos/
LOCATION:Serrado Vinhos\, Av. Maracanã\, 727\, loja 26 - Tijuca\, Rio de Janeiro\, RJ\, Brasil
CATEGORIES:Degustação,RJ - Rio de Janeiro
ATTACH;FMTTYPE=image/jpeg:https://agendadovinho.com.br/wp-content/uploads/2020/02/vinhos-gregos_270220.jpg
END:VEVENT
END:VCALENDAR