BEGIN:VCALENDAR
VERSION:2.0
PRODID:-//Agenda do Vinho - ECPv4.9.0//NONSGML v1.0//EN
CALSCALE:GREGORIAN
METHOD:PUBLISH
X-WR-CALNAME:Agenda do Vinho
X-ORIGINAL-URL:https://agendadovinho.com.br
X-WR-CALDESC:Eventos para Agenda do Vinho
BEGIN:VEVENT
DTSTART;TZID=America/Sao_Paulo:20200213T190000
DTEND;TZID=America/Sao_Paulo:20200213T213000
DTSTAMP:20260425T203741
CREATED:20200130T160954Z
LAST-MODIFIED:20200130T160954Z
UID:10918-1581620400-1581629400@agendadovinho.com.br
SUMMARY:Workshop Mesa Posta para Receber
DESCRIPTION:Se você ama receber e quer dicas para ser uma anfitriã de sucesso\, montando uma mesa linda que encante seus convidados\, este workshop é pra você! \nConteúdo:\n-O propósito da mesa\n-Enxoval da mesa posta\n-Louça coringa de mesa posta\n-Etiqueta básica\n-Aula prática de montagens de mesa\n-Diferentes tipos de taças\n-Degustação de vinhos \n
URL:https://agendadovinho.com.br/event/workshop-mesa-posta-para-receber/
LOCATION:Empório Folha de Uva\, Av. 29\, 279 - Cidade Jardim\, Rio Claro\, SP\, 13501-133\, Brasil
CATEGORIES:Degustação,SP - Demais cidades
ATTACH;FMTTYPE=image/jpeg:https://agendadovinho.com.br/wp-content/uploads/2020/01/IMG_20200129_223350_637.jpg
END:VEVENT
BEGIN:VEVENT
DTSTART;TZID=America/Sao_Paulo:20200213T190000
DTEND;TZID=America/Sao_Paulo:20200213T210000
DTSTAMP:20260425T203741
CREATED:20200213T155217Z
LAST-MODIFIED:20200213T155217Z
UID:11362-1581620400-1581627600@agendadovinho.com.br
SUMMARY:Vinhos Orgânicos
DESCRIPTION:*Degustação de Vinhos\nBiodinâmicos\, Orgânicos\, Naturais\, Sustentáveis*\n\n13 de fevereiro\, 19h\n\nConceitos\, estilos de elaboração\, diferenças\, detalhes. Para a ocasião\, foram garimpadas garrafas não disponíveis no mercado\, bem como atualidades.\nA apresentação é da enóloga Maria Amélia Duarte Flores.\n\nVinhos:\n99 Rosas\, certificado orgânico\, Espanha (três tipos)\nFilipa Pato Nossa\, um ícone biodinâmico\n02 vinhos de produtor natural artesanal brasileiro\n\nR$ 120\,00\nVagas limitadas!\n\nReservas 051993316098\n
URL:https://agendadovinho.com.br/event/vinhos-organicos/
LOCATION:Vinho e Arte\, Av. Alberto Bins\, 514\, Porto Alegre\, RS\, Brasil
CATEGORIES:Degustação,RS - Porto Alegre
ATTACH;FMTTYPE=image/jpeg:https://agendadovinho.com.br/wp-content/uploads/2020/02/vinhos-organicos_130220.jpg
END:VEVENT
BEGIN:VEVENT
DTSTART;TZID=America/Sao_Paulo:20200213T193000
DTEND;TZID=America/Sao_Paulo:20200213T223000
DTSTAMP:20260425T203741
CREATED:20191125T142434Z
LAST-MODIFIED:20191125T142434Z
UID:9919-1581622200-1581633000@agendadovinho.com.br
SUMMARY:Jour de Raclette
DESCRIPTION:Jour de raclette \nDurante todas as quintas-feiras do mês de Fevereiro\, a Raclette será o prato do dia. \nPor R$45\,00 você poderá saborear esse prato suíço juntamente com uma taça de vinho branco ou espumante \nFaça já a sua reserva!! \nCave Suíça \nRua João Ramalho\,1392- Perdizes \nMais informações: 96625-5427 \n
URL:https://agendadovinho.com.br/event/jour-de-raclette-3/
LOCATION:Cave Suíça\, Rua João Ramalho\, 1392\, São Paulo\, SP\, Brasil
CATEGORIES:Degustação,SP - São Paulo
ATTACH;FMTTYPE=image/jpeg:https://agendadovinho.com.br/wp-content/uploads/2019/11/jour-de-raclette_060220.jpg
END:VEVENT
BEGIN:VEVENT
DTSTART;TZID=America/Sao_Paulo:20200213T200000
DTEND;TZID=America/Sao_Paulo:20200213T220000
DTSTAMP:20260425T203741
CREATED:20200124T183601Z
LAST-MODIFIED:20200124T183601Z
UID:10828-1581624000-1581631200@agendadovinho.com.br
SUMMARY:Degustação Brancos do Loire
DESCRIPTION:Conhecido como o “Jardim da França”\, o Vale do Loire é um passeio indispensável para quem é amante de arte\, história e\, claro\, grandes vinhos. E nossa próxima degustação\, que acontecerá no dia 13/02\, abordará essa região encantadora. \n  \nNessa degustação\, conduzida por Eduardo Sartori\, Presidente da ABS-Campinas\, o painel será composto por brancos\, de diferentes estilos e apelações. \n  \nSerão 4 vinhos secos e\, para fechar com chave de ouro\, teremos o icônico Quarts de Chaume 2008 do Domaine Baumard\, vinho produzido a partir de uvas afetadas pela Botrytis e indiscutivelmente um dos melhores vinhos doces do mundo. Confiram mais detalhes dos vinhos: \n  \nCHÂTEAU DES GILLIÈRES MUSCADET SÈVRE-ET-MAINE SUR LIE GRANDE RÉSERVE 2017 ( 126\,00) (Decanter ) \n  \nVIGNEAU-CHEVREAU Vouvray Sec Cuvée Silex 2018 232\,00 (Premium) \n  \nSavennières Clos du Papillon 2015 DOMAINE BAUMARD (428\,00) Mistral \n  \nFOURNIER Pouilly-Fumé Grande Cuvée 2015 (516\,00) (Premium) \n  \nQuarts de Chaume 2008  DOMAINE BAUMARD ( 718\,00) ( Mistral)\nHarmonização com mini torta de maça. \n  \nValores R$ 120 para Associado e R$ 150 para quem nunca participou de eventos da ABS-Campinas e passará a ser associado a partir dessa degustação. \n  \nDia – 13/02/2020\, quinta-feira\nHorário – 20h\nLocal – ABS Campinas\, Rua Boaventura do Amaral\, 1274\, Royal Palm Tower\, Centro\, Campinas SP 13015-192 \n
URL:https://agendadovinho.com.br/event/degustacao-brancos-do-loire/
LOCATION:ABS Campinas\, R. Boaventura do Amaral\, 1274 - Centro\, Campinas\, SP\, Brasil
CATEGORIES:Degustação,SP - Demais cidades
ATTACH;FMTTYPE=image/jpeg:https://agendadovinho.com.br/wp-content/uploads/2020/01/Loire.jpeg
END:VEVENT
BEGIN:VEVENT
DTSTART;TZID=America/Sao_Paulo:20200213T200000
DTEND;TZID=America/Sao_Paulo:20200213T220000
DTSTAMP:20260425T203741
CREATED:20200212T173816Z
LAST-MODIFIED:20200212T173816Z
UID:11312-1581624000-1581631200@agendadovinho.com.br
SUMMARY:Wine and Cheese Amicci Anchieta
DESCRIPTION:A 3ª edição do Wine and Cheese será no dia 13/02\, você poderá saborear rótulos brancos\, tintos e rosés\, do velho e novo mundo\, especialmente selecionados e harmonizados com a nossa deliciosa mesa de antepastos e queijos.\n⠀\n😲Além dessa combinação de sabor\, você ainda ganhará R$ 60\,00 para compra de vinho em nosso empório. . \n✅das 20h às 22h\n⠀ \nhttps://www.instagram.com/amicciemporio \n
URL:https://agendadovinho.com.br/event/wine-and-cheese-amicci-anchieta/
LOCATION:Amicci Anchieta\, Av. Anchieta\, 225 - Jardim Esplanada\, São José dos Campos\, SP\, 12242-280\, Brasil
CATEGORIES:Degustação,SP - Demais cidades
ATTACH;FMTTYPE=image/png:https://agendadovinho.com.br/wp-content/uploads/2020/02/Banner-mob-800x800px.png
END:VEVENT
END:VCALENDAR