BEGIN:VCALENDAR
VERSION:2.0
PRODID:-//Agenda do Vinho - ECPv4.9.0//NONSGML v1.0//EN
CALSCALE:GREGORIAN
METHOD:PUBLISH
X-WR-CALNAME:Agenda do Vinho
X-ORIGINAL-URL:https://agendadovinho.com.br
X-WR-CALDESC:Eventos para Agenda do Vinho
BEGIN:VEVENT
DTSTART;TZID=America/Sao_Paulo:20200208T100000
DTEND;TZID=America/Sao_Paulo:20200208T120000
DTSTAMP:20260425T183812
CREATED:20200131T152534Z
LAST-MODIFIED:20200206T194745Z
UID:10951-1581156000-1581163200@agendadovinho.com.br
SUMMARY:Prova dos Dez
DESCRIPTION:As características geográficas da região dos Altos Montes proporcionam uma produção de uvas e vinhos com excelência e premiados em todo o mundo. Pensando nisso\, a Associação das Vinícolas dos Altos Montes realiza\, mensalmente\, a Prova dos Dez\, a fim de divulgar a identidade e diversidade vitivinícola do território. O evento é uma degustação guiada por enólogo especializado onde são apresentados um vinho de cada uma das dez vinícolas associadas. A primeira edição de 2020 já tem data: dia 08 de fevereiro\, das 10h às 12h\, na Escola de Gastronomia da UCS (Av. Vindima\, 1000 – Flores da Cunha). O restante do calendário será divulgado em breve. Ingressos e mais informações podem ser obtidos no site www.vinhosdosaltosmontes.com.br. \n
URL:https://agendadovinho.com.br/event/prova-dos-dez/
LOCATION:Escola de Gastronomia da UCS\, Av. Vindima\, 1000\, Flores da Cunha\, RS\, Brasil
CATEGORIES:Degustação,RS - Demais cidades
ATTACH;FMTTYPE=image/jpeg:https://agendadovinho.com.br/wp-content/uploads/2020/01/Capa-evento.jpg
END:VEVENT
BEGIN:VEVENT
DTSTART;TZID=America/Sao_Paulo:20200208T110000
DTEND;TZID=America/Sao_Paulo:20200208T140000
DTSTAMP:20260425T183812
CREATED:20200205T175147Z
LAST-MODIFIED:20200205T221141Z
UID:11131-1581159600-1581170400@agendadovinho.com.br
SUMMARY:Decanter Wine Tasting
DESCRIPTION:Essa vai ser para abrir fevereiro com chave de ouro! \nSerá no próximo sábado\, dia 08/02. \nTradicional degustação de vinhos e frios. \nDúvidas? Lgue (61) 3349-1943 \n
URL:https://agendadovinho.com.br/event/decatnter-wine-tasting/
LOCATION:Decanter Brasília\, Asa Sul CLS 103 loja 36 - Asa Sul\, Brasília\, DF\, 70342-520\, Brasil
CATEGORIES:Degustação,DF - Brasília
ATTACH;FMTTYPE=image/jpeg:https://agendadovinho.com.br/wp-content/uploads/2020/02/decanter-wine-tasting_180220.jpg
END:VEVENT
BEGIN:VEVENT
DTSTART;TZID=America/Sao_Paulo:20200208T140000
DTEND;TZID=America/Sao_Paulo:20200208T200000
DTSTAMP:20260425T183812
CREATED:20191225T204823Z
LAST-MODIFIED:20200205T235505Z
UID:10407-1581170400-1581192000@agendadovinho.com.br
SUMMARY:#sabadoucomvinho Portus Cale & BBM
DESCRIPTION:Use o código SABADOU_AGENDA e tenha desconto.\nA Portus Cale tem o prazer de apresentar o seu primeiro #sabadoucomvinho. O evento nasceu com o objetivo de aproximar o público dos tradicionais e também dos novos rótulos da Portus Cale\, importadora com cerca de 30 anos de experiência no mercado. Serão 50 vinhos de países como Portugal\, Espanha\, Chile\, Argentina\, França entre outros. \nPara contribuir ainda mais com o evento\, a Portus Cale se uniu ao projeto BBM – Beverage Business Meetup. Iremos promover\, no dia da feira\, palestras exclusivas e de conteúdo variado com nomes renomados no mercado. Falaremos de Vinhos orgânicos\, biodinâmicos e naturais\, vinhos na Argentina\, a febre dos vinhos em lata e muito mais! \nO evento ainda contará com diversas atrações: alguns dos experts de vinho mais renomados do Brasil apresentarão sua seleção especial de garrafas\, bar de ostras e espumantes\, venda de vinho em taça\, DJ e muito mais! \n
URL:https://agendadovinho.com.br/event/sabadoucomvinho-portus-cale-bbm/
LOCATION:Casa Da Travessa\, Rua Doutor Estevão de Almeida\, 40\, Perdizes\, São Paulo\, SP\, Brasil
CATEGORIES:Degustação,SP - São Paulo
ATTACH;FMTTYPE=image/jpeg:https://agendadovinho.com.br/wp-content/uploads/2019/12/sabadou_020220.jpg
END:VEVENT
END:VCALENDAR