BEGIN:VCALENDAR
VERSION:2.0
PRODID:-//Agenda do Vinho - ECPv4.9.0//NONSGML v1.0//EN
CALSCALE:GREGORIAN
METHOD:PUBLISH
X-WR-CALNAME:Agenda do Vinho
X-ORIGINAL-URL:https://agendadovinho.com.br
X-WR-CALDESC:Eventos para Agenda do Vinho
BEGIN:VEVENT
DTSTART;TZID=America/Sao_Paulo:20200204T190000
DTEND;TZID=America/Sao_Paulo:20200204T213000
DTSTAMP:20260425T183813
CREATED:20200129T140740Z
LAST-MODIFIED:20200129T140740Z
UID:10890-1580842800-1580851800@agendadovinho.com.br
SUMMARY:DEPÓSITO APRESENTA - Lançamento do Vinho Taffarel
DESCRIPTION:Bate papo com a presença do fundador da Vinícola Cave Antiga João Carlos Taffarel e sua filha Natália Taffarel. \nVENHA CONHECER os vinhos da Vinícola e\, em especial\, o Lançamento do Vinho Taffarel\, um corte de uvas Schönburger e Chardonnay. \nDIA 04/02/2020 \n19H \nDurante o Lançamento serão degustados 4 rótulos de vinhos\, antepastos e água. \n*No valor do Convite você tem R$30\,00 em bônus para comprar os vinhos da noite. \n
URL:https://agendadovinho.com.br/event/deposito-apresenta-lancamento-do-vinho-taffarel/
LOCATION:Depósito – Vinhos e Afins\, Rua Demétrio Ribeiro\, 1168\, Centro Histórico de Porto Alegre\, Porto Alegre\, RS\, Brasil
CATEGORIES:Degustação,RS - Porto Alegre
ATTACH;FMTTYPE=image/png:https://agendadovinho.com.br/wp-content/uploads/2020/01/taffarel_040220.png
END:VEVENT
BEGIN:VEVENT
DTSTART;TZID=America/Sao_Paulo:20200204T193000
DTEND;TZID=America/Sao_Paulo:20200204T213000
DTSTAMP:20260425T183813
CREATED:20200116T162507Z
LAST-MODIFIED:20200116T162507Z
UID:10619-1580844600-1580851800@agendadovinho.com.br
SUMMARY:Degustação Vertical - Venturini Chardonnay
DESCRIPTION:Degustação Vertical: Venturini Chardonnay\n \nDegustação Vertical é aquela na qual são provadas diferentes safras de um mesmo vinho\, para analisar suas diferenças ao longo dos anos e seu potencial evolutivo.\nO Casa Venturini Chardonnay é um clássico da Serra Gaúcha\, do município de Flores da Cunha. Em diversos anos foi considerado uma das amostras de vinho branco mais representativas na Avaliação Nacional de Vinhos\, prova de sua elevada qualidade e consistência. Nesta experiência degustaremos 9 safras deste vinho\, acompanhando sua evolução ao longo dos anos.\n \n\nNão há pré-requisitos para participar dessa degustação. Não importa se você é um profissional do mundo dos vinhos ou apenas gosta de tomar umas taças de boas de vez em quando: todos são muito bem vindos! O propósito é aprender através da prática da degustação.\n\n \n04 de Fevereiro de 2020\, terça-feira\, às 19h30\n \nOnde? No Brava Gastrobar – Rua 24 de Outubro\, 1454 – Loja 14\n(No Pátio 24 Mall\, esquina com a Av. Nova York)\n \nQuanto? R$ 170\,00 por pessoa\n \nDegustação de 9 rótulos e acompanhamento de queijos (parmesão e brie com mel)\, charcutaria (copa e presunto serrano)\, mix de nuts e meia porção de risoto Brie Serrano e água sem gás.\n\nAVISO\n \nA confirmação do evento está sujeita a um número mínimo de vagas preenchidas. Divulgue para os amigos e garanta logo seu ingresso 🙂\n
URL:https://agendadovinho.com.br/event/degustacao-vertical-venturini-chardonnay/
LOCATION:Brava Gastrobar\, Rua Vinte e Quatro de Outubro\, 1454\, Auxiliadora\, Porto Alegre\, RS\, Brasil
CATEGORIES:Degustação,RS - Porto Alegre
ATTACH;FMTTYPE=image/jpeg:https://agendadovinho.com.br/wp-content/uploads/2020/01/degustacao-vertical_040220.jpg
END:VEVENT
END:VCALENDAR