BEGIN:VCALENDAR
VERSION:2.0
PRODID:-//Agenda do Vinho - ECPv4.9.0//NONSGML v1.0//EN
CALSCALE:GREGORIAN
METHOD:PUBLISH
X-WR-CALNAME:Agenda do Vinho
X-ORIGINAL-URL:https://agendadovinho.com.br
X-WR-CALDESC:Eventos para Agenda do Vinho
BEGIN:VEVENT
DTSTART;TZID=America/Sao_Paulo:20200118T160000
DTEND;TZID=America/Sao_Paulo:20200118T190000
DTSTAMP:20260425T223504
CREATED:20191201T232429Z
LAST-MODIFIED:20191201T232429Z
UID:10025-1579363200-1579374000@agendadovinho.com.br
SUMMARY:Degustação Guiada Vino Digital
DESCRIPTION:Vinhos Refrescantes \nEvento de degustação guiada com sommelière. Será servido um coquetel para harmonizar com os vinhos degustados. Serão disponibilizados 3 tipos de vinhos\, sendo eles um branco\, um rosé e um espumante. Serviço do coquetel e água à vontade\, realizado pelo buffet do restaurante. \n
URL:https://agendadovinho.com.br/event/degustacao-guiada-vino-digital/
LOCATION:Cafundó Itu\, R. Joaquim Corrêa\, 75 - Jardim Santa Tereza\, Itu\, SP\, 13311-032\, Brasil
CATEGORIES:Degustação,SP - Demais cidades
ATTACH;FMTTYPE=image/jpeg:https://agendadovinho.com.br/wp-content/uploads/2019/12/degustacao-guiada_180120.jpg
END:VEVENT
END:VCALENDAR