BEGIN:VCALENDAR
VERSION:2.0
PRODID:-//Agenda do Vinho - ECPv4.9.0//NONSGML v1.0//EN
CALSCALE:GREGORIAN
METHOD:PUBLISH
X-WR-CALNAME:Agenda do Vinho
X-ORIGINAL-URL:https://agendadovinho.com.br
X-WR-CALDESC:Eventos para Agenda do Vinho
BEGIN:VEVENT
DTSTART;TZID=America/Sao_Paulo:20200109T180000
DTEND;TZID=America/Sao_Paulo:20200109T193000
DTSTAMP:20260425T222725
CREATED:20200107T210005Z
LAST-MODIFIED:20200107T210005Z
UID:10437-1578592800-1578598200@agendadovinho.com.br
SUMMARY:TOUR DI EATALY
DESCRIPTION:Ideal para quem quer conhecer a história e os sabores do Eataly Brasil \nUma experiência Eatalyana\, onde os participantes serão guiados em uma deliciosa viagem pelos sabores da Itália. \nTudo isso degustando nossos pães\, pizza romana\, queijos\, embutidos\, trufa de chocolate Venchi\, café espresso Lavazza e finalizando com uma taça de vinho\, na maior adega de rótulos italianos da América Latina! \n  \nDúvidas: \n(11)98217-5057 / eventos@eataly.com.br \n
URL:https://agendadovinho.com.br/event/tour-di-eataly/
LOCATION:Eataly\, Avenida Presidente Juscelino Kubitschek\, 1489\, São Paulo\, SP\, Brasil
CATEGORIES:Degustação,SP - São Paulo
ATTACH;FMTTYPE=image/jpeg:https://agendadovinho.com.br/wp-content/uploads/2020/01/tour_090120.jpg
END:VEVENT
BEGIN:VEVENT
DTSTART;TZID=America/Sao_Paulo:20200109T193000
DTEND;TZID=America/Sao_Paulo:20200109T210000
DTSTAMP:20260425T222725
CREATED:20200106T225025Z
LAST-MODIFIED:20200106T225025Z
UID:10419-1578598200-1578603600@agendadovinho.com.br
SUMMARY:Borbulhas da Chandon
DESCRIPTION:Para iniciar o ano\, o Núcleo Cultural do Vinho\, projeto da Fundação Ecarta\,  aproveita o clima de festividade e traz a Chandon\, marca francesa referência em espumantes naturais que vai completar 47 anos no Brasil com operação em Garibaldi. \nAlém do Brasil\, a Chandon está presente na Argentina\, Austrália\, China\, Estados Unidos e Índia. No encontro haverá a presença da sommelière com atuação no mercado nacional e chinês\, Paola Karasck Campos\, da LVMH\, (conglomerado de luxo que detém a grife de espumantes) para apresentar as tais borbulhas da Chandon. \nHaverá degustação de cinco espumantes:\nChandon Brut Reserve\nChandon Brut Rosé\nChandon Excellence Brut\nChandon Excellence Rosé\nDrink com Chandon Passion \nAs inscrições podem ser realizadas pelo e-mail beti@fundacaoecarta.org.br ou pelo telefone 51. 4009 2970. \n
URL:https://agendadovinho.com.br/event/borbulhas-da-chandon/
LOCATION:Fundação Ecarta\, Av. João Pessoa\, 943\, Porto Alegre\, RS\, Brasil
CATEGORIES:Degustação,RS - Porto Alegre
ATTACH;FMTTYPE=image/jpeg:https://agendadovinho.com.br/wp-content/uploads/2020/01/Chandon_Divulgacao.jpg
END:VEVENT
END:VCALENDAR