BEGIN:VCALENDAR
VERSION:2.0
PRODID:-//Agenda do Vinho - ECPv4.9.0//NONSGML v1.0//EN
CALSCALE:GREGORIAN
METHOD:PUBLISH
X-WR-CALNAME:Agenda do Vinho
X-ORIGINAL-URL:https://agendadovinho.com.br
X-WR-CALDESC:Eventos para Agenda do Vinho
BEGIN:VEVENT
DTSTART;TZID=America/Sao_Paulo:20191220T170000
DTEND;TZID=America/Sao_Paulo:20191220T170000
DTSTAMP:20260425T235609
CREATED:20191216T123833Z
LAST-MODIFIED:20191216T123833Z
UID:10262-1576861200-1576861200@agendadovinho.com.br
SUMMARY:Vinhos de outro planeta
DESCRIPTION:O winehunter @rudaserra selecionou 6 vinhos tão especiais que parecem de outro planeta. Produtores impressionantes do Chile e da Argentina. \nQue tal escolher os rótulos pras festas e presentes que ficaram pra última hora? \nLocal: Dionysos – Rua Deputado Lacerda Franco\, 207\nData: Sexta-feira\, 20/12\nHorário: A partir das 17h00\nValor: R$40\,00 – Revetido em produto ou consumo (link do ingresso na bio) * Desconto exclusivo na compra de caixa com 12 \n
URL:https://agendadovinho.com.br/event/vinhos-de-outro-planeta/
LOCATION:Dionysos – Boteco & Vinhos\, Rua Deputado Lacerda Franco\, 207\, Pinheiros\, São Paulo\, SP\, Brasil
CATEGORIES:Degustação,SP - São Paulo
ATTACH;FMTTYPE=image/jpeg:https://agendadovinho.com.br/wp-content/uploads/2019/12/vinhos-de-outro-planeta_201219.jpg
END:VEVENT
BEGIN:VEVENT
DTSTART;TZID=America/Sao_Paulo:20191220T193000
DTEND;TZID=America/Sao_Paulo:20191220T193000
DTSTAMP:20260425T235609
CREATED:20191217T173402Z
LAST-MODIFIED:20191217T173402Z
UID:10321-1576870200-1576870200@agendadovinho.com.br
SUMMARY:DEGUSTAÇÃO DE VINHOS: ESPECIAL NATAL!
DESCRIPTION:O Empório Liberdade em parceria com a importadora ROOTSTOCK\, realizará uma\ndegustação guiada com os fantásticos sommelieres Paul Tudgay e Juliana Tudgay!!!\nPara essa degustação\, foram selecionados 4 rótulos que irão compor nossa\ndegustação especial de Natal!\nE para tornar nossa noite ainda mais agradável\, teremos aperitivos como acompanhamento.\nPreparados para mais um encontro surpreendente no mundo dos vinhos? \nAqui no Empório Liberdade queremos garantir uma experiência única em cada degustação!\n\n– Data do evento: 20 de Dezembro\n– Inicio do evento: 19:30 hrs.\n– Vagas Limitadas\n\n\nEmpório Liberdade – Rua Castro\, 888\ninstagram.com/emporioliberdadecuritiba\n\n
URL:https://agendadovinho.com.br/event/degustacao-de-vinhos-especial-natal/
LOCATION:Empório Liberdade\, Rua Castro\, 888\, Água Verde\, Curitiba\, PR\, Brasil
CATEGORIES:Degustação,PR - Curitiba
ATTACH;FMTTYPE=image/jpeg:https://agendadovinho.com.br/wp-content/uploads/2019/12/degustacao-de-vinhos_201219.jpg
END:VEVENT
BEGIN:VEVENT
DTSTART;TZID=America/Sao_Paulo:20191220T200000
DTEND;TZID=America/Sao_Paulo:20191220T233000
DTSTAMP:20260425T235609
CREATED:20191205T193327Z
LAST-MODIFIED:20191219T202505Z
UID:10101-1576872000-1576884600@agendadovinho.com.br
SUMMARY:Experimento - Roteiro Multisensorial: Obras e vinhos
DESCRIPTION:\nUm roteiro multissensorial onde obras de arte são harmonizadas com uma deliciosa degustação de vinhos guiado pelo Ca Cau e a Sommelière Renata Guidoti da Vinícola Aurora de uma forma lúdica\, poética e sensorial\,promovendo um conhecimento mais profundo e entusiasta em relação ao vinho e não somente um aprendizado técnico para harmonizações\, mas uma real aproximação\, dentro de uma percepção diferente de experiência\, proporcionando entre seus participantes: diálogos\, conexões\, sensações\,descobertas…afeto! Uma vivência única dentro de uma galeria de arte contemporânea\, com pinturas\, poesia\, objetos\, vídeo instalação\, cores\, aromas\, sons… e durante todo o trajeto várias formas de estímulos são provocados nos dando a oportunidade de explorar o sensorial e estimular novas percepções em um momento de entrega ao mundo fantástico de vinho e da arte! \nROTEIRO:\n20:00 Hrs: Abertura do Atelier com Welcome Drink\n20:30 Hrs: Início pontualmente da Harmonização\nRoteiro multissesorial\, com poesia\, arte\, Pocket show do Ca Cau Artista\, vinho e diálogos.\n23:30 Hrs: Encerramento \nINGRESSO ANTECIPADO:\nValor R$ 70\,00 \nINGRESSOS NA PORTA:\nValor R$ 90\,00 \nO valor inclui todo roteiro\, 5 ambientes\, 5 rótulos de vinho (1 taça para cada ambiente)\, café de encerramento e patês. \nCapacidade: 30 pessoas\nDúvidas e ou Sugestões\nTravessia Produções\n11 2362- 2363 \n11 9 9629-6652 (whatsapp)\nateliertravessia@gmail.com\n\n
URL:https://agendadovinho.com.br/event/experimento-roteiro-multisensorial-obras-e-vinhos/
LOCATION:Atelier Travessia\, Rua Minas Gerais\, 201\, Higienópolis\, São Paulo\, SP\, Brasil
CATEGORIES:Degustação,SP - São Paulo
ATTACH;FMTTYPE=image/jpeg:https://agendadovinho.com.br/wp-content/uploads/2019/12/experimento_201219.jpg
END:VEVENT
BEGIN:VEVENT
DTSTART;TZID=America/Sao_Paulo:20191220T200000
DTEND;TZID=America/Sao_Paulo:20191220T230000
DTSTAMP:20260425T235609
CREATED:20191205T193335Z
LAST-MODIFIED:20191205T193335Z
UID:10102-1576872000-1576882800@agendadovinho.com.br
SUMMARY:Noite Premium - Clos Apalta 2005\, Gran Enemigo 2013\, Almaviva
DESCRIPTION:Gran Enemigo 2013 & Clos Apalta 2005\n20 de dezembro\, Vinho e Arte\,  20h\n\nA Vinho & Arte tem a honra em apresentar uma degustação histórica\, para fechar o ano em grande estilo.\nAqui estamos\, quinze anos depois\, revendo as páginas\, mexendo na adega\, relembrando estes encontros. Tecnicamente\, assistimos (de taça na mão) a evolução da América Latina\, as altas pontuações\, um novo estilo de elaborar. Assim\, eu\, Maria Amélia\, lhe convido a que compartilhe comigo estas seis jóias da minha coleção\, nesta noite cheia de pontos\, estrelas\, medalhas e recordações.\n\nPreparamos uma mesa de frios linda\, saborosa\, com a alma latina para degustar estas raridades!\n\nWine Tasting:\n*Angel Mendoza Concierto 5\, Malbec\, safra 1999 (raridade\, do ano em que fiz meu estágio na Argentina e surgiam os primeiros vinhos da Domaine St Diego)\n*Trapiche Iscay\, Merlot & Malbec\, safra 2005 (14 anos em garrafa deste que foi um dos primeiros vinhos premiuns da América Latina)\n* Montes Folly Syrah\, safra 2001 (JS97 / WS94 / WE94 / RP93 / W&S92)\n* Almaviva 2012 ( JS96 / RP93  / WS92)\n*Clos Apalta 2005 (Wine of the Year\, Wine Spectator 2008)\n*Gran Enemigo Gualtallary 2013 (WS 100)\n\nNas boas vindas\, muito espumante brasileiro!\n\nVamos comemorar a vida? Te esperamos!\n\nData: 20 de dezembro\, sexta-feira\, 20h\nLocal: Vinho e Arte  Plaza São Rafael . Porto Alegre\nValor individual: R$ 790\,00\nInclui frios\, todos os vinhos citados e apresentação da enóloga Maria Amélia Duarte Flores\n \nSerão apenas 14 vagas.\nHospedagem com preço especial\, solicite informações. \n\nReservas: 051 99331 6098\n
URL:https://agendadovinho.com.br/event/noite-premium-clos-apalta-2005-gran-enemigo-2013-almaviva/
LOCATION:Vinho e Arte\, Av. Alberto Bins\, 514\, Porto Alegre\, RS\, Brasil
CATEGORIES:Degustação,RS - Porto Alegre
ATTACH;FMTTYPE=image/jpeg:https://agendadovinho.com.br/wp-content/uploads/2019/12/noite-premium_201219.jpg
END:VEVENT
END:VCALENDAR