BEGIN:VCALENDAR
VERSION:2.0
PRODID:-//Agenda do Vinho - ECPv4.9.0//NONSGML v1.0//EN
CALSCALE:GREGORIAN
METHOD:PUBLISH
X-WR-CALNAME:Agenda do Vinho
X-ORIGINAL-URL:https://agendadovinho.com.br
X-WR-CALDESC:Eventos para Agenda do Vinho
BEGIN:VEVENT
DTSTART;TZID=America/Sao_Paulo:20191214T100000
DTEND;TZID=America/Sao_Paulo:20191214T120000
DTSTAMP:20260425T235717
CREATED:20191211T154158Z
LAST-MODIFIED:20191211T154158Z
UID:10211-1576317600-1576324800@agendadovinho.com.br
SUMMARY:Serra Gaúcha: Prova dos Dez propõe degustação de dez vinhos dos Altos Montes
DESCRIPTION:Neste sábado\, 14 de dezembro\, as vinícolas dos Altos Montes realizam a Prova dos Dez\, uma degustação de vinhos finos da região\, com enólogo especializado. No evento\, que ocorre mensalmente\, são apresentados um vinho de cada uma das dez vinícolas associadas a Altos Montes. A próxima edição acontece das 10h às 12h\, na Escola de Gastronomia da UCS (Av. Vindima\, 1000 – Flores da Cunha). Confira abaixo a carta de degustação da próxima edição. Ingressos e mais informações podem ser obtidos no site www.vinhosdosaltosmontes.com.br. \nVinhos dos Altos Montes – Reconhecida pelo registro de Indicação de Procedência (IP) dos Altos Montes\, a região é responsável por rótulos premiados em todo o mundo. As características geográficas\, altitude – altitude de até 800 metros acima do mar – combinada com o solo rochoso e úmido\, entregam vinhos exclusivos e uma grande variedade de sabores. A região dos Altos Montes é localizada entre os municípios de Flores da Cunha e Nova Pádua e desde 2002 faz parte do roteiro enoturístico da Serra Gaúcha. \n  \nProva dos Dez  \n  \nData: 14 de dezembro (sábado) \nHorário: 10h às 12h \nLocal: Escola de Gastronomia da UCS (Av. Vindima\, 1000 – Flores da Cunha) \nIngressos: R$ 40 (www.vinhosdosaltosmontes.com.br/eventos/prova-dos-10-1) \n  \nCarta de degustação \n\nVinícola Monte Reale – Espumante Sospirolo Nature\nFante Indústria de Bebidas – Cordelier Espumante Brut Rosé\nTerrasul Vinhos Finos – Terrasul Malvasia de Cândia\nVinhos Fabian – Chardonnay Reserva\nCasa Venturini – Le Bateleur Rosé de Tannat\nBoscato Vinhos Finos – Boscato Cave Merlot\nVinícola Panizzon – Panizzon Montepulciano\nLuiz Argenta Vinhos Finos – Cabernet Franc Clássico\nVinhos Viapiana – Marselan 2014\nVinícola Mioranza – Riobravo Vinho Moscatel Espumante\n\n
URL:https://agendadovinho.com.br/event/serra-gaucha-prova-dos-dez-propoe-degustacao-de-dez-vinhos-dos-altos-montes/
LOCATION:Escola de Gastronomia da UCS\, Av. Vindima\, 1000\, Flores da Cunha\, RS\, Brasil
CATEGORIES:Degustação,RS - Demais cidades
ATTACH;FMTTYPE=image/png:https://agendadovinho.com.br/wp-content/uploads/2019/12/06-12.png
END:VEVENT
BEGIN:VEVENT
DTSTART;TZID=America/Sao_Paulo:20191214T110000
DTEND;TZID=America/Sao_Paulo:20191214T200000
DTSTAMP:20260425T235717
CREATED:20191204T184133Z
LAST-MODIFIED:20191204T184133Z
UID:10066-1576321200-1576353600@agendadovinho.com.br
SUMMARY:WINE DAY
DESCRIPTION:Dia 14 de dezembro vamos comemorar a 20 Edição do Projeto Democratizando o Vinho\, com uma experiência gastronômica que irá colocar o vinho em foco. Serão oito horas de comida e bebidas liberadas\, atrações musicais\, espaço kids e lounges. \nCada tipo de carne leva junto um acompanhamento que varia desde saladas\, purês e farofas. Para quem não abre mão da sobremesa\, o festival contará com os chocolates da Kopenhagen. \nO principal destaque fica para a harmonização dos pratos com os vinhos. \nO Wine Day começará às 11h e encerrará às 19h. Durante esse tempo\, as pessoas poderão se servir à vontade nas mais variadas estações de alimentos e bebidas montadas no evento. \nAs famílias são totalmente bem-vindas em nosso evento\, teremos um espaço kids montado com vários brinquedos. \n
URL:https://agendadovinho.com.br/event/wine-day-5/
LOCATION:Clara’s Hall Festas\, R. Rio Grande do Norte\, 1877 - Country\, Cascavel\, PR\, 85813-090\, Brasil
CATEGORIES:Degustação,PR - Demais cidades
ATTACH;FMTTYPE=image/jpeg:https://agendadovinho.com.br/wp-content/uploads/2019/12/wine-day_141219.jpg
END:VEVENT
BEGIN:VEVENT
DTSTART;TZID=America/Sao_Paulo:20191214T190000
DTEND;TZID=America/Sao_Paulo:20191214T190000
DTSTAMP:20260425T235717
CREATED:20191210T184118Z
LAST-MODIFIED:20191210T184118Z
UID:10186-1576350000-1576350000@agendadovinho.com.br
SUMMARY:DEGUSTAÇÃO DE VINHOS: ESPECIAL 2019
DESCRIPTION:O Empório Liberdade preparou para esse final de semana\, uma degustação especial 2019.\nOu seja\, selecionamos 8 rótulos para relembrar os principais países que a nossa Tour preferida pelo mundo\ndos vinhos passou. E para tornar nossa noite ainda mais agradável\,\nteremos aperitivos como acompanhamento. \nPreparados para mais um encontro surpreendente no mundo dos vinhos? \nAqui no Empório Liberdade queremos garantir uma experiência única em cada degustação!\n– Data do evento: 14 de Dezembro.\n– Inicio do evento: 19:00 hrs.\n– Vagas Limitadas\n\n\nNão é necessário levar o ingresso impresso\, usaremos as inscrições para controle de participantes.\n\nAguardamos vocês!\n\nEmpório Liberdade – Rua Castro\, 888\ninstagram.com/emporioliberdadecuritiba\n\n
URL:https://agendadovinho.com.br/event/degustacao-de-vinhos-especial-2019/
LOCATION:Empório Liberdade\, Rua Castro\, 888\, Água Verde\, Curitiba\, PR\, Brasil
CATEGORIES:Degustação,PR - Curitiba
ATTACH;FMTTYPE=image/jpeg:https://agendadovinho.com.br/wp-content/uploads/2019/12/degustacao_141219.jpg
END:VEVENT
BEGIN:VEVENT
DTSTART;TZID=America/Sao_Paulo:20191214T220000
DTEND;TZID=America/Sao_Paulo:20191214T235900
DTSTAMP:20260425T235717
CREATED:20191206T172917Z
LAST-MODIFIED:20191206T172917Z
UID:10115-1576360800-1576367940@agendadovinho.com.br
SUMMARY:2ª Edição Open Wine
DESCRIPTION:Segunda edição do evento Open Wine & Chopp com uma seleção feita pelo Recanto do Queijo.\nOpen durante o show com quatro rótulos de vinhos e duas qualidades de chopp.\nShow com a banda Gertrudes tocando Clássicos do Rock.\n#SoulRock-se #OpenWine \nPrimeiro Lote – R$ 35\,00 \nAs taças e copos terão o custo de 5\,00 no dia do evento. Com reembolso do valor na devolução dos mesmos.\n#SoulRockSustentável \nVendas\nRecanto do Queijo\nSoul Rock Store\nMustache Hand Pizza\nTribbu Fit Food \nVendas Online Sympla\nsympla.com.br/SoulRock \nAbertura da casa: 22h\nHorário do show: 0h\nClassificação: 18 anos \n
URL:https://agendadovinho.com.br/event/2a-edicao-open-wine/
LOCATION:Soul Rock\, R. Bárbara Heliodora\, 258 - Centro\, Governador Valadares\, MG\, 35010-040\, Brasil
CATEGORIES:Degustação,MG - Demais cidades
ATTACH;FMTTYPE=image/jpeg:https://agendadovinho.com.br/wp-content/uploads/2019/12/open-wine_141219.jpg
END:VEVENT
END:VCALENDAR