BEGIN:VCALENDAR
VERSION:2.0
PRODID:-//Agenda do Vinho - ECPv4.9.0//NONSGML v1.0//EN
CALSCALE:GREGORIAN
METHOD:PUBLISH
X-WR-CALNAME:Agenda do Vinho
X-ORIGINAL-URL:https://agendadovinho.com.br
X-WR-CALDESC:Eventos para Agenda do Vinho
BEGIN:VEVENT
DTSTART;TZID=America/Sao_Paulo:20191213T190000
DTEND;TZID=America/Sao_Paulo:20191213T220000
DTSTAMP:20260425T235932
CREATED:20191206T173117Z
LAST-MODIFIED:20191206T173117Z
UID:10116-1576263600-1576274400@agendadovinho.com.br
SUMMARY:Noite de Inauguração da Vinho Leve
DESCRIPTION:Inauguração da Vinho Leve \nCarne na Parrilla\, linguiça caseira\, pão caseiro e Vinho a vontade. \n
URL:https://agendadovinho.com.br/event/noite-de-inauguracao-da-vinho-leve/
LOCATION:Toro Parrilla\, Toro\, SHCS CLS 104 BL C Loja 29 - Asa Sul\,\, Brasília\, DF\, 70297-400\, Brasil
CATEGORIES:Degustação,DF - Brasília
ATTACH;FMTTYPE=image/jpeg:https://agendadovinho.com.br/wp-content/uploads/2019/12/vinho-leve_131219.jpg
END:VEVENT
BEGIN:VEVENT
DTSTART;TZID=America/Sao_Paulo:20191213T200000
DTEND;TZID=America/Sao_Paulo:20191213T230000
DTSTAMP:20260425T235932
CREATED:20191126T173336Z
LAST-MODIFIED:20191126T173514Z
UID:9930-1576267200-1576278000@agendadovinho.com.br
SUMMARY:Degustação Primeira Estrada Syrah
DESCRIPTION:No dia 13/12/2019 sexta-feira #campinas tem encontro de gala marcado com a casta #syrah e o jeitinho mineiro de fazer vinho a #duplapoda !\n.\nVamos apresentar a syrah e também falar um pouco sobre esta casta que produz vinhos em todas as regiões do planeta!\n.\nVamos apresentar o ciclo vegetativo de uma videira e como são as suas fases no hemisfério norte e no hemisfério sul!\n.\nApresentaremos a técnica da #duplapoda que permite enganar a videira para que os seus frutos\, a #uva sejam colhidos no inverno!\n.\nApresentaremos a @vinicolaestradareal e as três safras do #primeiraestrada o vinho que abriu as portas para a produção de vinhos na #serradamantiqueira mais precisamente nos estados de Minas Gerais e São Paulo!\n.\nE para finalizar provaremos o vinho nas suas três safras\, para que você tenha a sua própria opinião!\n.\nO encontro será em #campinas na @viladovinho que fica situada à Rua Doutor Sampaio Peixoto\, 283 no bairro do #cambui !\n.\nPara participar? R$71\,90 e estão incluídos R$20\,00 que reverterá em compra de qualquer um dos vinhos da @viladovinho\, além de pão e água a vontade e um material didático impresso que poderá ser usado sempre que precisar de referência para a casta que se tornou muito conhecida graças ao seu #boom nos anos 80 proveniente da #australia !\n. \nApenas 15 inscrições!\n.\nVocê vai ficar de fora? Eu não posso acreditar!\n.\nDúvidas?\n.\nMensagem direta no #instagram @divinomundo ou direto com Heberson no (19)99356- 2896!\n.\n#bordeaux #merlot #cabernetsauvignon #chardonnay #sauvignonblanc #vinho #crozeshermitage #cotierotie #cotedurhone #serragaucha #duplapodadavideira #duplapodaproducaoinverno #duplapodaproducaoinvernal @luizportovinhosfinos @casageraldo @vinicolastellavalentino @casaverrone @vinhovesperata @vinicolaguaspari @vinicola.ferreira @vinicolaterrasaltas @vinicolaterrassos @vinicola_terranossa @vinicolaferracini @vinicolavillasantamaria @hotelvinicoladavo @vinicolagoes\n.\nSalutem e até lá! \n
URL:https://agendadovinho.com.br/event/degustacao-primeira-estrada-syrah/
LOCATION:Vila do Vinho\, R. Dr. Sampaio Peixoto\, 283 - Cambuí\, Campinas\, SP\, 13024-420\, Brasil
CATEGORIES:Degustação,SP - Demais cidades
ATTACH;FMTTYPE=image/jpeg:https://agendadovinho.com.br/wp-content/uploads/2019/11/CB6F28CB-2A07-4AB7-AE23-9A05657D4C1D.jpeg
END:VEVENT
BEGIN:VEVENT
DTSTART;TZID=America/Sao_Paulo:20191213T200000
DTEND;TZID=America/Sao_Paulo:20191213T230000
DTSTAMP:20260425T235932
CREATED:20191201T223452Z
LAST-MODIFIED:20191201T223452Z
UID:10007-1576267200-1576278000@agendadovinho.com.br
SUMMARY:Eu gosto é de OPEN WINE
DESCRIPTION:Primeira edição desse evento que promete bombar! \nTeremos 04 rótulos de vinhos espanhóis + 06 opções de finger food pra você beber e comer à vontade durante o horário do evento. \nFinger food: \nSanduba pomodoro \nTapas de ricota temperada e pepperoni \nBarquete de carne suína com barbecue \nBarquete de caponata \nMesa de frios \nCaponata no ramequim \nVinhos espanhóis: \nBranco – Marqués De La Vega – Verdejo – 2017 \nBranco – Angosto – Verdejo\, Sauvignon Blanc\, Moscatel e Chardonnay – 2017 \nRosé – Identidad – Bobal – 2018 \nTinto – Marqués De La Vega – Tempranillo – 2017 \nO evento vai rolar das 20h às 23h\, então chegue cedo pra aproveitar ao máximo essa noite. \nVAGAS LIMITADAS!! \nVem curtir esse open wine e open food com a gente! \n
URL:https://agendadovinho.com.br/event/eu-gosto-e-de-open-wine/
LOCATION:Cuore Wine Bar\, Rua Ministro Calógeras\, 1484\, Anita Garibaldi\, Joinville\, SC\, Brasil
CATEGORIES:Degustação,SC - Demais cidades
ATTACH;FMTTYPE=image/png:https://agendadovinho.com.br/wp-content/uploads/2019/12/open-wine_131219.png
END:VEVENT
END:VCALENDAR