BEGIN:VCALENDAR
VERSION:2.0
PRODID:-//Agenda do Vinho - ECPv4.9.0//NONSGML v1.0//EN
CALSCALE:GREGORIAN
METHOD:PUBLISH
X-WR-CALNAME:Agenda do Vinho
X-ORIGINAL-URL:https://agendadovinho.com.br
X-WR-CALDESC:Eventos para Agenda do Vinho
BEGIN:VEVENT
DTSTART;TZID=America/Sao_Paulo:20191204T183000
DTEND;TZID=America/Sao_Paulo:20191204T200000
DTSTAMP:20260425T235328
CREATED:20191024T165932Z
LAST-MODIFIED:20191024T165932Z
UID:9308-1575484200-1575489600@agendadovinho.com.br
SUMMARY:Workshop e degustação de espumantes Pericó
DESCRIPTION:Bate papo e degustação de espumantes da Vinícola Pericó. R$ 30\,00 por pessoa revertido em compras de produtos Pericó na loja no dia do evento. Vagas limitadas. Informações pelo telefone ou whatsapp 47 30550010. \n
URL:https://agendadovinho.com.br/event/workshop-e-degustacao-de-espumantes-perico/
LOCATION:Empório Floriani\, R. Jorge Czerniewicz\, 99 - sala 7 - Czerniewicz\, Jaraguá do Sul\, SC\, 89255-000\, Brasil
CATEGORIES:Degustação,SC - Demais cidades
ATTACH;FMTTYPE=image/png:https://agendadovinho.com.br/wp-content/uploads/2019/10/workshop-espumantes-perico-1.png
END:VEVENT
END:VCALENDAR